BEGIN:VCALENDAR
PRODID:NingEventWidget-v1
VERSION:2.0
METHOD:PUBLISH
BEGIN:VTIMEZONE
TZID:Europe/Paris
X-LIC-LOCATION:Europe/Paris
BEGIN:DAYLIGHT
TZOFFSETFROM:+0100
TZOFFSETTO:+0200
TZNAME:CEST
DTSTART:19700329T020000
RRULE:FREQ=YEARLY;BYMONTH=3;BYDAY=-1SU
END:DAYLIGHT
BEGIN:STANDARD
TZOFFSETFROM:+0200
TZOFFSETTO:+0100
TZNAME:CET
DTSTART:19701025T030000
RRULE:FREQ=YEARLY;BYMONTH=10;BYDAY=-1SU
END:STANDARD
END:VTIMEZONE
BEGIN:VEVENT
UID:2485226:Event:1155477
DTSTAMP:20260420T042150Z
SUMMARY:Yoga tibétain par Samten Yeshe Rinpoché
DESCRIPTION:Une opportunité rare de recevoir des enseignements authen
 tiques et directs sur la pratique du Yoga tibétain et de la méditati
 on par Samten Yeshe Rinpoché.\nNé au Tibet, Samten Yeshe Rinpoché a
  accompli 16 années d’études au sein du Monastère de Menri et a o
 btenu le diplôme d’enseignement supérieur de Docteur en Philosophi
 e Bouddhiste Bön en 2010. Après avoir enseigné et professé au Tibe
 t et en Inde, il voyage aujourd’hui en Europe afin d’offrir ses en
 seignements sur la philosophie, la méditation bouddhistes ainsi que d
 es consultations en astrologie tibétaine notamment.\nLe Yoga Tibétai
 n est une technique qui permet de purifier, d'apaiser, d'équilibrer e
 t d'harmoniser le corps et l'esprit en travaillant sur les souffles et
  canaux internes pour faciliter la circulation des énergies. Ce yoga 
 utilise également les techniques de méditation et de visualisations.
 \nSon objectif est non seulement de vous permettre de trouver un bien-
 être physique et mental mais également de faire s'élever la vérita
 ble nature de votre esprit, à savoir la sagesse et la compassion.\nC'
 est un excellent complément à la pratique de la méditation.\nA Pari
 s: tous les vendredis de 20h à 21h30, Métro NATION au Centre \"Le F
 il du Corps\" \", 6 Passage Turquetil\nParticipation aux frais : 10 e
 uros minimum\nRenseignements/inscriptions: contacter Arianne au 06
  07 18 25 83 ou arianeclement@gmail.com\n \n \n\nPour plus d'inform
 ation, aller sur https://epanews.fr/events/yoga-tib-tain-par-samten-ye
 she-rinpoch
DTSTART;TZID=Europe/Paris:20130215T200000
DTEND;TZID=Europe/Paris:20130215T213000
CATEGORIES:75
LOCATION:Le Fil du Corps à Nation
WEBSITE:http://www.samtenyesherinpoche.fr
URL:http://www.samtenyesherinpoche.fr
CONTACT:0610473982
ORGANIZER;CN="judith soussans":https://epanews.fr/profile/judithsoussa
 ns
ATTACH;FMTTYPE="image/jpeg":http://storage.ning.com/topology/rest/1.0/
 file/get/1662756668?profile=original
ATTENDEE;ROLE=REQ-PARTICIPANT;PARTSTAT=ACCEPTED;RSVP=TRUE;CN="judith s
 oussans":https://epanews.fr/profile/judithsoussans
END:VEVENT
END:VCALENDAR
