BEGIN:VCALENDAR
PRODID:NingEventWidget-v1
VERSION:2.0
METHOD:PUBLISH
BEGIN:VTIMEZONE
TZID:Europe/Paris
X-LIC-LOCATION:Europe/Paris
BEGIN:DAYLIGHT
TZOFFSETFROM:+0100
TZOFFSETTO:+0200
TZNAME:CEST
DTSTART:19700329T020000
RRULE:FREQ=YEARLY;BYMONTH=3;BYDAY=-1SU
END:DAYLIGHT
BEGIN:STANDARD
TZOFFSETFROM:+0200
TZOFFSETTO:+0100
TZNAME:CET
DTSTART:19701025T030000
RRULE:FREQ=YEARLY;BYMONTH=10;BYDAY=-1SU
END:STANDARD
END:VTIMEZONE
BEGIN:VEVENT
UID:2485226:Event:1107304
DTSTAMP:20260422T105418Z
SUMMARY:Yoga tibétain hebdomadaire avec Samten Yeshe Rinpoche
DESCRIPTION:Le Yoga Tibétain est une technique qui permet de purifier
 , d'apaiser, d'équilibrer et d'harmoniser le corps et l'esprit en tra
 vaillant sur les souffles et canaux internes pour faciliter la circula
 tion des énergies.\nCe yoga utilise également les techniques de méd
 itation et de visualisations.\nSon objectif est non seulement de vous 
 permettre de trouver un bien-être physique et mental mais également 
 de faire s'élever la véritable nature de votre esprit, à savoir la 
 sagesse et la compassion.\nNé au Tibet, Samten Yeshe Rinpoché a acco
 mpli 16 années d’études au sein du Monastère de Menri et a obtenu
  le diplôme d’enseignement supérieur de Docteur en Philosophie Bou
 ddhiste Bön en 2010. Après avoir enseigné et professé au Tibet et 
 en Inde, il voyage aujourd’hui en Europe afin d’offrir ses enseign
 ements sur la philosophie, la méditation bouddhistes ainsi que des co
 nsultations en astrologie tibétaine notamment.\n \n\nPour plus d'inf
 ormation, aller sur https://epanews.fr/events/yoga-tib-tain-hebdomadai
 re-avec-samten-yeshe-rinpoche
DTSTART;TZID=Europe/Paris:20130113T110000
DTEND;TZID=Europe/Paris:20130113T123000
CATEGORIES:34
LOCATION:Centre de l'Arbre, Montpellier, Les Arceaux
WEBSITE:
URL:
CONTACT:
ORGANIZER;CN="judith soussans":https://epanews.fr/profile/judithsoussa
 ns
ATTACH;FMTTYPE="image/jpeg":http://storage.ning.com/topology/rest/1.0/
 file/get/1662730588?profile=original
ATTENDEE;ROLE=REQ-PARTICIPANT;PARTSTAT=ACCEPTED;RSVP=TRUE;CN="judith s
 oussans":https://epanews.fr/profile/judithsoussans
END:VEVENT
END:VCALENDAR
