BEGIN:VCALENDAR
PRODID:NingEventWidget-v1
VERSION:2.0
METHOD:PUBLISH
BEGIN:VTIMEZONE
TZID:Europe/Paris
X-LIC-LOCATION:Europe/Paris
BEGIN:DAYLIGHT
TZOFFSETFROM:+0100
TZOFFSETTO:+0200
TZNAME:CEST
DTSTART:19700329T020000
RRULE:FREQ=YEARLY;BYMONTH=3;BYDAY=-1SU
END:DAYLIGHT
BEGIN:STANDARD
TZOFFSETFROM:+0200
TZOFFSETTO:+0100
TZNAME:CET
DTSTART:19701025T030000
RRULE:FREQ=YEARLY;BYMONTH=10;BYDAY=-1SU
END:STANDARD
END:VTIMEZONE
BEGIN:VEVENT
UID:2485226:Event:843153
DTSTAMP:20260422T040129Z
SUMMARY:Yoga tantrique Ã  Paris le WE du 7 et 8 juillet
DESCRIPTION:\n\"Dans le Yoga\" est un atelier court de deux jours axÃ©
  sur la maniÃ¨re de poser une bonne pratique du yoga au quotidien pour
  soutenir votre dÃ©veloppement spirituel en mÃªme temps qu'amÃ©liorer 
 votre vie quotidienne, en devenant plus efficient.  Accessible aux dÃ©
 butants comme aux Ã©lÃ¨ves plus avancÃ©s, Yuval vous propose avant tou
 t de travailler votre intention.  Durant cet atelier, nous allons prÃ©
 senter le Yoga de maniÃ¨re trÃ¨s mÃ©ditative. La voie de l'auto-observ
 ation, l'introspection et le questionnement ... L'enseignement compren
 dra des cours thÃ©oriques et pratiques dans lesquels vous apprendrez Ã
   effectuer un exercice de base simple et quotidien qui contribue Ã  n
 otre flux d'Ã©nergie, Ã  notre santÃ© et Ã  notre concentration. Vous 
 allez grÃ¢ce Ã  des techniques comme la musique et les mantras pour Ãª
 tre soutenus Ã  entrer dans un Ã©tat mÃ©ditatif. L'atelier mettra l'ac
 cent sur le thÃ¨me de la mÃ©ditation car elle est l'essence de toute l
 a pratique et en gÃ©nÃ©ral conduit Ã  la libÃ©ration et Ã  la libertÃ©
  dans la vie! L'atelier est destinÃ© aux dÃ©butants qui veulent en app
 rendre davantage sur le yoga et Ã  des praticiens expÃ©rimentÃ©s qui s
 ouhaitent aiguiser leur intention dans la pratique.   ----------------
 ------------- Programme  Jour 1  10:00 Cours Quâ€™est-ce que le Yoga? 
 + A propos de la  pratique 12:00 Pratique Appliquer la maniÃ¨re de pra
 tiquer  14:00 Repas Repas lÃ©ger 15:00 Musique MÃ©ditation Utiliser le
 s technologies externes 17:00 Pratique + MÃ©ditation Techniques de sub
 limation  + Asana inversÃ©  19:00 Bonsoir IntÃ©grer le Yoga Ã  votre v
 ie  Jour 2  10:00 MÃ©ditation  11:00 Cours  12:00 Pratique  14:00 Repa
 s Repas lÃ©ger 15:00 Musique Meditation Meditation du chakra du coeur 
 17:00 Pratique + Meditation  19:00 Au revoir   -----------------------
 ------ Qui est Yuval Rivlin?  Yuval Rivlin est professeur de Yoga et d
 e MÃ©ditation; Suivant et pratiquant la tradition du yoga tantrique te
 lle quâ€™enseignÃ©e dans les Ã©coles de Yoga Agama et Hridaya (non-dua
 litÃ©). Yuval perÃ§oit la vie inspirÃ© du point de vue yogique - un la
 boratoire, oÃ¹ lâ€™on est le chercheur de ses propres mondes internes 
 et externes. Dans son enseignement, il vise la profondeur de la purifi
 cation dans tous ses aspects, la paix avec l'esprit et lâ€™importance 
 d'une pratique rituelle quotidienne oÃ¹ le portail de l'auto-reconnais
 sance est ouvert.  ---------------------------------- Pour plus dâ€™in
 formations et pour vous inscrire, contactez CÃ©line : Homaya.france@gm
 ail.com ou 06.11.67.44.30\n\nPour plus d'information, aller sur https:
 //epanews.fr/events/yoga-tantrique-paris-le-we-du-7-et-8-juillet
DTSTART;TZID=Europe/Paris:20120707T100000
DTEND;TZID=Europe/Paris:20120708T180000
CATEGORIES:75
LOCATION:Paris 18
WEBSITE:
URL:
CONTACT:06 11 67 44 30
ORGANIZER:Yuval Rivlin
ATTACH;FMTTYPE="image/jpeg":
ATTENDEE;ROLE=REQ-PARTICIPANT;PARTSTAT=ACCEPTED;RSVP=TRUE;CN=nathalie:
 https://epanews.fr/profile/nathalieBonnegrace
ATTENDEE;ROLE=REQ-PARTICIPANT;PARTSTAT=ACCEPTED;RSVP=TRUE;CN="marie ja
 ouen":https://epanews.fr/profile/mariejaouen
END:VEVENT
END:VCALENDAR
