BEGIN:VCALENDAR
PRODID:NingEventWidget-v1
VERSION:2.0
METHOD:PUBLISH
BEGIN:VTIMEZONE
TZID:Europe/Paris
X-LIC-LOCATION:Europe/Paris
BEGIN:DAYLIGHT
TZOFFSETFROM:+0100
TZOFFSETTO:+0200
TZNAME:CEST
DTSTART:19700329T020000
RRULE:FREQ=YEARLY;BYMONTH=3;BYDAY=-1SU
END:DAYLIGHT
BEGIN:STANDARD
TZOFFSETFROM:+0200
TZOFFSETTO:+0100
TZNAME:CET
DTSTART:19701025T030000
RRULE:FREQ=YEARLY;BYMONTH=10;BYDAY=-1SU
END:STANDARD
END:VTIMEZONE
BEGIN:VEVENT
UID:2485226:Event:2607862
DTSTAMP:20260421T155736Z
SUMMARY:Yoga Swing et Rando en DrÃ´me ProvenÃ§ale
DESCRIPTION:Une semaine dÃ©diÃ©e Ã  lâ€™art du YOGA SWINGÂ : dÃ©couver
 te ou plaisir de retrouver une pratique en apesanteur. Oubliez votre m
 anque de souplesse et profitez de cette aide Ã©tonnante et stimulante.
  Air pur dans ce coin de montagne ou vous profiterez de randonnÃ©es to
 utes plus belles les unes que les autres grÃ¢ce Ã  Dominique, notre gÃ
 ©niale accompagnatrice en montagne. Bel accueil et ambiance chaleureus
 e grÃ¢ce Ã  nos hÃ´tes Nicole et Daniel qui rÃ©galeront vos papillesÂ 
 ! Rejoignez-nous vite, nombre de places limitÃ©.\n\nPour plus d'inform
 ation, aller sur https://epanews.fr/events/yoga-swing-et-rando-en-dr-m
 e-proven-ale-1
DTSTART;TZID=Europe/Paris:20160710T190000
DTEND;TZID=Europe/Paris:20160716T140000
CATEGORIES:tous
LOCATION:GÃ®te La Sauvagine
WEBSITE:http://www.jyoti-yogi.com
URL:http://www.jyoti-yogi.com
CONTACT:+34685154469
ORGANIZER;CN="Maryvonne LASCOMBES":https://epanews.fr/profile/Maryvonn
 eLASCOMBES
ATTACH;FMTTYPE="image/jpeg":http://storage.ning.com/topology/rest/1.0/
 file/get/1663542477?profile=original
ATTENDEE;ROLE=REQ-PARTICIPANT;PARTSTAT=ACCEPTED;RSVP=TRUE;CN="Maryvonn
 e LASCOMBES":https://epanews.fr/profile/MaryvonneLASCOMBES
END:VEVENT
END:VCALENDAR
