BEGIN:VCALENDAR
PRODID:NingEventWidget-v1
VERSION:2.0
METHOD:PUBLISH
BEGIN:VTIMEZONE
TZID:Europe/Paris
X-LIC-LOCATION:Europe/Paris
BEGIN:DAYLIGHT
TZOFFSETFROM:+0100
TZOFFSETTO:+0200
TZNAME:CEST
DTSTART:19700329T020000
RRULE:FREQ=YEARLY;BYMONTH=3;BYDAY=-1SU
END:DAYLIGHT
BEGIN:STANDARD
TZOFFSETFROM:+0200
TZOFFSETTO:+0100
TZNAME:CET
DTSTART:19701025T030000
RRULE:FREQ=YEARLY;BYMONTH=10;BYDAY=-1SU
END:STANDARD
END:VTIMEZONE
BEGIN:VEVENT
UID:2485226:Event:264026
DTSTAMP:20260423T051521Z
SUMMARY:Yoga & Rando 
DESCRIPTION:Deux passionnées pour vous faire découvrir leur univers 
 : Dominique Alès, accompagnatrice en montagne et amoureuse de sa rég
 ion  vous fera découvrir les plus beaux sites et Maryvonne, profess
 eur de yoga, partagera sa joie de vivre dans une pratique de yoga adap
 tée à chacun. Petit groupe pour une ambiance chaleureuse et un suivi
  personnalisé. Ce stage va vous donner, jour après jour, les moyens 
 de dénouer vos tensions, de revitaliser votre organisme et d'affiner 
 votre écoute intérieure tout simplement parce qu'enfin, vous aurez l
 e temps !  Prix : 596 € tout compris. Détails et bulletin d'inscri
 ption sur le site.\n\nPour plus d'information, aller sur https://epane
 ws.fr/events/yoga-rando
DTSTART;TZID=Europe/Paris:20110703T180000
DTEND;TZID=Europe/Paris:20110709T140000
CATEGORIES:26
LOCATION:VALENCE
WEBSITE:http://www.jyoti-yogi-13.com
URL:http://www.jyoti-yogi-13.com
CONTACT:06 18 85 39 11
ORGANIZER;CN="Maryvonne LASCOMBES":https://epanews.fr/profile/Maryvonn
 eLASCOMBES
ATTACH;FMTTYPE="image/jpeg":http://storage.ning.com/topology/rest/1.0/
 file/get/1662410551?profile=original
ATTENDEE;ROLE=REQ-PARTICIPANT;PARTSTAT=ACCEPTED;RSVP=TRUE;CN="Maryvonn
 e LASCOMBES":https://epanews.fr/profile/MaryvonneLASCOMBES
END:VEVENT
END:VCALENDAR
