BEGIN:VCALENDAR
PRODID:NingEventWidget-v1
VERSION:2.0
METHOD:PUBLISH
BEGIN:VTIMEZONE
TZID:Europe/Paris
X-LIC-LOCATION:Europe/Paris
BEGIN:DAYLIGHT
TZOFFSETFROM:+0100
TZOFFSETTO:+0200
TZNAME:CEST
DTSTART:19700329T020000
RRULE:FREQ=YEARLY;BYMONTH=3;BYDAY=-1SU
END:DAYLIGHT
BEGIN:STANDARD
TZOFFSETFROM:+0200
TZOFFSETTO:+0100
TZNAME:CET
DTSTART:19701025T030000
RRULE:FREQ=YEARLY;BYMONTH=10;BYDAY=-1SU
END:STANDARD
END:VTIMEZONE
BEGIN:VEVENT
UID:2485226:Event:744201
DTSTAMP:20260423T184443Z
SUMMARY:Yoga Iyengar
DESCRIPTION:Journee YOGA Iyengarle dimanche 22 avrilà l’espace LILA
  à la Bouillladisse10h-midi: Postures debout, torsion, inverséesPaus
 e midi: pique-nique à emporter15h-17h30: Postures restorativesPartici
 pation financière de 40 eurosEmporter votre tapis de yoga!\n\nPour pl
 us d'information, aller sur https://epanews.fr/events/yoga-iyengar
DTSTART;TZID=Europe/Paris:20120422T000000
DTEND;TZID=Europe/Paris:20120422T235900
CATEGORIES:13
LOCATION:La Bouilladisse
WEBSITE:http://www.espacelila.com/acc%C3%A8s.php
URL:http://www.espacelila.com/acc%C3%A8s.php
CONTACT:0671925107
ORGANIZER;CN="Caroline Wirta":https://epanews.fr/profile/CarolineWirta
ATTACH;FMTTYPE="image/jpeg":
ATTENDEE;ROLE=REQ-PARTICIPANT;PARTSTAT=ACCEPTED;RSVP=TRUE;CN="Caroline
  Wirta":https://epanews.fr/profile/CarolineWirta
END:VEVENT
END:VCALENDAR
