BEGIN:VCALENDAR
PRODID:NingEventWidget-v1
VERSION:2.0
METHOD:PUBLISH
BEGIN:VTIMEZONE
TZID:Europe/Paris
X-LIC-LOCATION:Europe/Paris
BEGIN:DAYLIGHT
TZOFFSETFROM:+0100
TZOFFSETTO:+0200
TZNAME:CEST
DTSTART:19700329T020000
RRULE:FREQ=YEARLY;BYMONTH=3;BYDAY=-1SU
END:DAYLIGHT
BEGIN:STANDARD
TZOFFSETFROM:+0200
TZOFFSETTO:+0100
TZNAME:CET
DTSTART:19701025T030000
RRULE:FREQ=YEARLY;BYMONTH=10;BYDAY=-1SU
END:STANDARD
END:VTIMEZONE
BEGIN:VEVENT
UID:2485226:Event:980723
DTSTAMP:20260419T184646Z
SUMMARY:Yoga et intimitÃ©
DESCRIPTION:alliant thÃ©orie et pratique, Odile Gence partagera avec n
 ous sa longue expÃ©rience du yoga et du tantra, quand l'art du yoga et
  l'art de la relation se rencontrent. Les thÃ©matiques abordÃ©es : la 
 relation intime avec les proches, inventer son couple, masculin/fÃ©min
 in, le couple intÃ©rieur. Venez nombreux!\nOdile Gence nous propose un
 e vision Ã©nergÃ©tique, de la relation sacrÃ©e fÃ©minine-masculine : c
 oncilier nos diffÃ©rence, valoriser nos complÃ©mentaritÃ©s. 8â‚¬ / 4â‚
 ¬ adhÃ©rent\nSuivie d'un atelier-stage pour la mise en pratique : Yoga
  et intimitÃ©. Samedi 20 Octobre de 9 h Ã  13h. 35/28â‚¬ adhÃ©rent\n\n
 Pour plus d'information, aller sur https://epanews.fr/events/yoga-inti
 mit-rencontre-connective-ce-jeudi-n-mes
DTSTART;TZID=Europe/Paris:20121018T193000
DTEND;TZID=Europe/Paris:20121018T210000
CATEGORIES:30
LOCATION:NÃ®mes
WEBSITE:http://www.yoganim.org/contact_fr.html
URL:http://www.yoganim.org/contact_fr.html
CONTACT:06 14 22 46 19
ORGANIZER;CN=Nathyeco:https://epanews.fr/profile/Nathyeco
ATTACH;FMTTYPE="image/jpeg":http://storage.ning.com/topology/rest/1.0/
 file/get/1662683406?profile=original
ATTENDEE;ROLE=REQ-PARTICIPANT;PARTSTAT=ACCEPTED;RSVP=TRUE;CN=Nathyeco:
 https://epanews.fr/profile/Nathyeco
END:VEVENT
END:VCALENDAR
