BEGIN:VCALENDAR
PRODID:NingEventWidget-v1
VERSION:2.0
METHOD:PUBLISH
BEGIN:VTIMEZONE
TZID:Europe/Paris
X-LIC-LOCATION:Europe/Paris
BEGIN:DAYLIGHT
TZOFFSETFROM:+0100
TZOFFSETTO:+0200
TZNAME:CEST
DTSTART:19700329T020000
RRULE:FREQ=YEARLY;BYMONTH=3;BYDAY=-1SU
END:DAYLIGHT
BEGIN:STANDARD
TZOFFSETFROM:+0200
TZOFFSETTO:+0100
TZNAME:CET
DTSTART:19701025T030000
RRULE:FREQ=YEARLY;BYMONTH=10;BYDAY=-1SU
END:STANDARD
END:VTIMEZONE
BEGIN:VEVENT
UID:2485226:Event:2808745
DTSTAMP:20260421T161740Z
SUMMARY:Yoga et mÃ©ditation au Ladakh, Inde, aoÃ»t 2017
DESCRIPTION:Un circuit hors des sentiers battus avec la rencontre de p
 ersonnes exceptionnelles grÃ¢ce Ã  notre guide natif du pays. Ce voyag
 e de ressourcement, basÃ© sur les rencontres spirituelles, vousÂ emmÃ¨
 nera au cÅ“ur des traditionsÂ ancestrales tibÃ©taines sans oublier vot
 re pratique quotidienne de yoga et de mÃ©ditation dans des lieux privi
 lÃ©giÃ©s. Â Chaque expÃ©rienceÂ et activitÃ© proposÃ©e sera une invita
 tionÂ Ã  rentrer en contact avec soi etÂ lâ€™environnement visitÃ©.\nÂ
  Maximum : 10 personnes car nous privilÃ©gions les petits groupes Ã  d
 imension humaine pour une harmonie totale et des Ã©changes riches lors
  deÂ ces jours passÃ©s ensembles et pourÂ qu'une attention particuliÃ¨
 re soitÂ portÃ©e Ã  chacun, quelles que soient vos contraintes, Â pour
  une pratique riche en bienfaits.Â \nÂ Attention : il ne reste que deu
 x places.\nA Leh, nous bÃ©nÃ©ficierons d'une belle salle de yoga et no
 us aurons la possibilitÃ© d'une pratique en plein air dans un lieu mag
 ique. Ensuite il se peut que notre habitude du confort soit un peu \"c
 hamboulÃ©e\" et que les conditions soient un peu plus spartiates mais 
 c'est tout l'intÃ©rÃªt d'un voyage en Inde. Comprendre et vivre ce pay
 s, avec notre ouverture d'esprit et de cÅ“ur !\nÂ Il est important de 
 nous signaler trÃ¨s vite votre intention de participer pour pouvoir bÃ
 ©nÃ©ficier deÂ tarifs aÃ©riens plus attrayants. Renseignements sur le 
 site.\n\nPour plus d'information, aller sur https://epanews.fr/events/
 yoga-et-m-ditation-au-ladakh-ao-t-2017
DTSTART;TZID=Europe/Paris:20170801T060000
DTEND;TZID=Europe/Paris:20170801T220000
CATEGORIES:tous
LOCATION:Leh
WEBSITE:http://www.jyoti-yogi.com
URL:http://www.jyoti-yogi.com
CONTACT:+34685154469
ORGANIZER:
ATTACH;FMTTYPE="image/jpeg":http://storage.ning.com/topology/rest/1.0/
 file/get/1663651832?profile=original
ATTENDEE;ROLE=REQ-PARTICIPANT;PARTSTAT=ACCEPTED;RSVP=TRUE;CN="Maryvonn
 e LASCOMBES":https://epanews.fr/profile/MaryvonneLASCOMBES
END:VEVENT
END:VCALENDAR
