BEGIN:VCALENDAR
PRODID:NingEventWidget-v1
VERSION:2.0
METHOD:PUBLISH
BEGIN:VTIMEZONE
TZID:Europe/Paris
X-LIC-LOCATION:Europe/Paris
BEGIN:DAYLIGHT
TZOFFSETFROM:+0100
TZOFFSETTO:+0200
TZNAME:CEST
DTSTART:19700329T020000
RRULE:FREQ=YEARLY;BYMONTH=3;BYDAY=-1SU
END:DAYLIGHT
BEGIN:STANDARD
TZOFFSETFROM:+0200
TZOFFSETTO:+0100
TZNAME:CET
DTSTART:19701025T030000
RRULE:FREQ=YEARLY;BYMONTH=10;BYDAY=-1SU
END:STANDARD
END:VTIMEZONE
BEGIN:VEVENT
UID:2485226:Event:1404175
DTSTAMP:20260421T170912Z
SUMMARY:Yoga et do in
DESCRIPTION:\n  sous les oliviers du parc du Partegal\n(Vous pouvez v
 ous garer à la station de bus ou plus loin vers le moulin à huile)\n
 \n\nHatha Yoga, respiration (pranayama) et postures (asana) qui amène
 nt à la conscience de notre corps, de notre mental et de l'Esprit.\n\
 n\n\nDo in issu de la médecine traditionnelle chinoise. Sa pratique s
 e rapproche à celle du Shiatsu, Do \"la voie par la pression des doig
 ts\" et de la digipuncture.\n\n\n\nPorter une tenue souple, ample, je 
 vous conseille le tapis car il y a quelques cailloux.\n(Participation 
 libre ou unités j.e.u)\n\nPour plus d'information, aller sur https://
 epanews.fr/events/yoga-et-do-in-1
DTSTART;TZID=Europe/Paris:20130623T093000
DTEND;TZID=Europe/Paris:20130623T113000
CATEGORIES:83
LOCATION:Au parc des Oliviers, rue du Partégal
WEBSITE:http://unespacedeserenite.wordpress.com/2013/06/09/yoga-et-do-
 in-le-23-juin/
URL:http://unespacedeserenite.wordpress.com/2013/06/09/yoga-et-do-in-l
 e-23-juin/
CONTACT:
ORGANIZER;CN="un espace de serenité":https://epanews.fr/profile/unesp
 acedeserenite
ATTACH;FMTTYPE="image/jpeg":http://storage.ning.com/topology/rest/1.0/
 file/get/1662860016?profile=original
ATTENDEE;ROLE=REQ-PARTICIPANT;PARTSTAT=ACCEPTED;RSVP=TRUE;CN="THERAPY 
 BIEN ETRE":https://epanews.fr/profile/cristalviolet
ATTENDEE;ROLE=REQ-PARTICIPANT;PARTSTAT=ACCEPTED;RSVP=TRUE;CN="un espac
 e de serenité":https://epanews.fr/profile/unespacedeserenite
END:VEVENT
END:VCALENDAR
