BEGIN:VCALENDAR
PRODID:NingEventWidget-v1
VERSION:2.0
METHOD:PUBLISH
BEGIN:VTIMEZONE
TZID:Europe/Paris
X-LIC-LOCATION:Europe/Paris
BEGIN:DAYLIGHT
TZOFFSETFROM:+0100
TZOFFSETTO:+0200
TZNAME:CEST
DTSTART:19700329T020000
RRULE:FREQ=YEARLY;BYMONTH=3;BYDAY=-1SU
END:DAYLIGHT
BEGIN:STANDARD
TZOFFSETFROM:+0200
TZOFFSETTO:+0100
TZNAME:CET
DTSTART:19701025T030000
RRULE:FREQ=YEARLY;BYMONTH=10;BYDAY=-1SU
END:STANDARD
END:VTIMEZONE
BEGIN:VEVENT
UID:2485226:Event:1370576
DTSTAMP:20260421T215324Z
SUMMARY:Yoga et cuisine Ayurvédique
DESCRIPTION:La richesse de la cuisine Ayurvédique permet de découvri
 r les qualités énergétiques des aliments.\nPendant ce stage, il vou
 s est proposé d'apprendre à cuisiner différentes recettes de cette 
 cuisine traditionnelle végétarienne.\nVous explorerez également les
  constitutions psycho / morpho / physiologiques selon l'Ayurvéda (les
  3 Doshas) et les aliments qui leur sont adaptés.\n\nPour plus d'info
 rmation, aller sur https://epanews.fr/events/yoga-et-cuisine-ayurv-diq
 ue
DTSTART;TZID=Europe/Paris:20130628T000000
DTEND;TZID=Europe/Paris:20130630T235900
CATEGORIES:75
LOCATION:Paris 12e
WEBSITE:http://www.yogsansara.com/yoga-et-cuisine-ayurvedique-r19552.h
 tml
URL:http://www.yogsansara.com/yoga-et-cuisine-ayurvedique-r19552.html
CONTACT:01 43 41 99 64
ORGANIZER;CN=yogsansara:https://epanews.fr/profile/yogsansara
ATTACH;FMTTYPE="image/jpeg":
ATTENDEE;ROLE=REQ-PARTICIPANT;PARTSTAT=ACCEPTED;RSVP=TRUE;CN=yogsansar
 a:https://epanews.fr/profile/yogsansara
ATTENDEE;ROLE=REQ-PARTICIPANT;PARTSTAT=TENTATIVE;RSVP=TRUE;CN="Amis de
  Partage International":https://epanews.fr/profile/AmisdePartageIntern
 ational
END:VEVENT
END:VCALENDAR
