BEGIN:VCALENDAR
PRODID:NingEventWidget-v1
VERSION:2.0
METHOD:PUBLISH
BEGIN:VTIMEZONE
TZID:Europe/Paris
X-LIC-LOCATION:Europe/Paris
BEGIN:DAYLIGHT
TZOFFSETFROM:+0100
TZOFFSETTO:+0200
TZNAME:CEST
DTSTART:19700329T020000
RRULE:FREQ=YEARLY;BYMONTH=3;BYDAY=-1SU
END:DAYLIGHT
BEGIN:STANDARD
TZOFFSETFROM:+0200
TZOFFSETTO:+0100
TZNAME:CET
DTSTART:19701025T030000
RRULE:FREQ=YEARLY;BYMONTH=10;BYDAY=-1SU
END:STANDARD
END:VTIMEZONE
BEGIN:VEVENT
UID:2485226:Event:264305
DTSTAMP:20260424T194400Z
SUMMARY:Yoga et Ayurveda pour la femme
DESCRIPTION:Venez partager un temps de rencontre entre femmes et vousÂ
  imprĂ©gner de rituels ancĂŞstraux, le LunaYogaÂ®,Â art corporelÂ anci
 en et lâ€™Ayurveda, science de vie.\nThĂ©matiques proposĂ©esÂ :\n\nMie
 ux gĂ©rer ses Ă©motions, vivre pleinement dans son corps en touteÂ con
 science pour traverser sereinement chaque cycle fĂ©minin de la vie :Â 
 menstruation, fĂ©conditĂ©, maternitĂ©, mĂ©nopause grĂ˘ce Ă  :\n\n- Des
  postures, de la danse etÂ relaxation\n--Â Des conseils en hygiĂ¨ne de
  vie, alimentation, massages et utilisation des plantes\n\nParticipati
 onÂ : 90 euros (30 euros d'acompte lors de l'inscription)\n\nRenseigne
 ments et inscriptionsÂ :Â 06.14.19.01.95/aurelie.cros@ojasmassages.fr\
 n\n\n\nPour plus d'information, aller sur https://epanews.fr/events/yo
 ga-et-ayurveda-pour-la-femme
DTSTART;TZID=Europe/Paris:20110507T000000
DTEND;TZID=Europe/Paris:20110507T235900
CATEGORIES:75009
LOCATION: Paris
WEBSITE:http://www.tradition-ayurveda.fr
URL:http://www.tradition-ayurveda.fr
CONTACT:06.14.19.01.95
ORGANIZER;CN=CROS:https://epanews.fr/profile/CROS
ATTACH;FMTTYPE="image/jpeg":http://storage.ning.com/topology/rest/1.0/
 file/get/1662409313?profile=original
ATTENDEE;ROLE=REQ-PARTICIPANT;PARTSTAT=ACCEPTED;RSVP=TRUE;CN=CROS:http
 s://epanews.fr/profile/CROS
END:VEVENT
END:VCALENDAR
