BEGIN:VCALENDAR
PRODID:NingEventWidget-v1
VERSION:2.0
METHOD:PUBLISH
BEGIN:VTIMEZONE
TZID:Europe/Paris
X-LIC-LOCATION:Europe/Paris
BEGIN:DAYLIGHT
TZOFFSETFROM:+0100
TZOFFSETTO:+0200
TZNAME:CEST
DTSTART:19700329T020000
RRULE:FREQ=YEARLY;BYMONTH=3;BYDAY=-1SU
END:DAYLIGHT
BEGIN:STANDARD
TZOFFSETFROM:+0200
TZOFFSETTO:+0100
TZNAME:CET
DTSTART:19701025T030000
RRULE:FREQ=YEARLY;BYMONTH=10;BYDAY=-1SU
END:STANDARD
END:VTIMEZONE
BEGIN:VEVENT
UID:2485226:Event:794552
DTSTAMP:20260421T112053Z
SUMMARY:Yoga du son et intelligence collective
DESCRIPTION:Nous pratiquerons des exercices vocaux pour trouver notre 
 alignement. \nNous chercherons en nous les parties en tension...de 
 nos extrêmes, nous tenterons de trouver l'équilibre. \nNous compto
 ns sur le plaisir vocal du chant de l'âme pour initier cet accord pai
 sible entre nos différentes parties...des soins collectifs pourront n
 ous y grâce à  l’intelligence collective\n\nPour plus d'informat
 ion, aller sur https://epanews.fr/events/yoga-du-son-et-paix-int-rieur
 e
DTSTART;TZID=Europe/Paris:20120523T193000
DTEND;TZID=Europe/Paris:20120523T220000
CATEGORIES:75
LOCATION:Forum 104
WEBSITE:http://www.lesjardinsdutemps.fr
URL:http://www.lesjardinsdutemps.fr
CONTACT:0603166217
ORGANIZER;CN="Isabelle Jouck":https://epanews.fr/profile/IsabelleJouck
ATTACH;FMTTYPE="image/jpeg":http://storage.ning.com/topology/rest/1.0/
 file/get/1662604373?profile=original
ATTENDEE;ROLE=REQ-PARTICIPANT;PARTSTAT=ACCEPTED;RSVP=TRUE;CN="Isabelle
  Jouck":https://epanews.fr/profile/IsabelleJouck
END:VEVENT
END:VCALENDAR
