BEGIN:VCALENDAR
PRODID:NingEventWidget-v1
VERSION:2.0
METHOD:PUBLISH
BEGIN:VTIMEZONE
TZID:Europe/Paris
X-LIC-LOCATION:Europe/Paris
BEGIN:DAYLIGHT
TZOFFSETFROM:+0100
TZOFFSETTO:+0200
TZNAME:CEST
DTSTART:19700329T020000
RRULE:FREQ=YEARLY;BYMONTH=3;BYDAY=-1SU
END:DAYLIGHT
BEGIN:STANDARD
TZOFFSETFROM:+0200
TZOFFSETTO:+0100
TZNAME:CET
DTSTART:19701025T030000
RRULE:FREQ=YEARLY;BYMONTH=10;BYDAY=-1SU
END:STANDARD
END:VTIMEZONE
BEGIN:VEVENT
UID:2485226:Event:1647470
DTSTAMP:20260424T010748Z
SUMMARY:Yoga du Rire Toulon
DESCRIPTION:Encore un R.D.V. pour s’éclater!!!\n \nTu viens juste
  de te remettre du fou rire que tu n’arrivais pas à arrêter, et vo
 ila rebelote !!!! \n \nY a-t-il un enfant rieur en toi qui a besoin
  de s’exprimer?\n \nViens donc découvrir ou redécouvrir le yoga d
 u rire, il se pratique en groupe de façon ludique et permet de provoq
 uer et de déclencher des rires vrais. Le rire étant communicatif, il
  se transmet au groupe. Le yoga du rire ou le rire sans raison se dis
 tingue de celui généré par l'humour, et il est déclenché par notr
 e propre volonté de rire.\nLe corps ne fait pas la différence avec l
 e rire naturel et le rire forcé.\nIl est bien connu depuis longtemps 
 que rire est bénéfique pour l’être humain, et ses effets positifs
  sont nombreux ; il est un antidote naturel contre le stress !\nIl y
  aura aussi des exercices de respiration et relaxation.  \n \nSéanc
 e d’une heure environ.\nP.A.F. de 3 euros \nPour les personnes qui 
 le désirent, à la fin de la séance nous allons partager un repas co
 nvivial, avec ce que nous aurons apporté!\n \nPour plus d'informatio
 n: Stefano au 06.23.05.43.70\n\nPour plus d'information, aller sur htt
 ps://epanews.fr/events/yoga-du-rire-toulon-2
DTSTART;TZID=Europe/Paris:20131213T190000
DTEND;TZID=Europe/Paris:20131213T210000
CATEGORIES:83
LOCATION:Toulon
WEBSITE:
URL:
CONTACT:06.23.05.43.70
ORGANIZER;CN="Stefano PASSIGATTI":https://epanews.fr/profile/StefanoPA
 SSIGATTI
ATTACH;FMTTYPE="image/jpeg":http://storage.ning.com/topology/rest/1.0/
 file/get/1662976171?profile=original
ATTENDEE;ROLE=REQ-PARTICIPANT;PARTSTAT=ACCEPTED;RSVP=TRUE;CN="Stefano 
 PASSIGATTI":https://epanews.fr/profile/StefanoPASSIGATTI
ATTENDEE;ROLE=REQ-PARTICIPANT;PARTSTAT=TENTATIVE;RSVP=TRUE;CN=Vicevers
 a:https://epanews.fr/profile/Viceversa
END:VEVENT
END:VCALENDAR
