BEGIN:VCALENDAR
PRODID:NingEventWidget-v1
VERSION:2.0
METHOD:PUBLISH
BEGIN:VTIMEZONE
TZID:Europe/Paris
X-LIC-LOCATION:Europe/Paris
BEGIN:DAYLIGHT
TZOFFSETFROM:+0100
TZOFFSETTO:+0200
TZNAME:CEST
DTSTART:19700329T020000
RRULE:FREQ=YEARLY;BYMONTH=3;BYDAY=-1SU
END:DAYLIGHT
BEGIN:STANDARD
TZOFFSETFROM:+0200
TZOFFSETTO:+0100
TZNAME:CET
DTSTART:19701025T030000
RRULE:FREQ=YEARLY;BYMONTH=10;BYDAY=-1SU
END:STANDARD
END:VTIMEZONE
BEGIN:VEVENT
UID:2485226:Event:2430908
DTSTAMP:20260423T111651Z
SUMMARY:Devenez animateur agréé de yoga du rire à Lausanne (Suisse)
DESCRIPTION:Devenez animateur agréé de yoga du rire à Lausanne (Sui
 sse) 17 ET 18 OCTOBRE 2015\navec un expert mondial, en français  A ti
 tre personnel ou professionnel En 2 jours avec diplôme\nDécouvrez de
 s outils pour réveiller la joie de vivre et booster le positif. Faite
 s l'expérience d'une méthode novatrice et rafraichissante pour un bi
 en être global grâce au rire : vous allez adorer ! Formation officie
 lle d'animateur de yoga du rire et d'expert du rire par l'Institut Fra
 nçais et International du Yoga du rire. Formation dispensée par Fabr
 ice Loizeau, Master professeur-formateur officiel du Docteur Kataria, 
 fondateur du yoga du rire.  En 2 jours, les participants repartent ave
 c des bases solides et complètes pour devenir autonome et pourront s'
 adresser à différents publics (jeunes, seniors, adultes, entreprises
 , écoles, etc.) Manuel fourni.\n250 euros\net 160 euros si rafraichis
 sement.\n tel (+33) 02 99 00 22 10 contact@formation-yogadurire.fr\n\n
 Pour plus d'information, aller sur https://epanews.fr/events/yoga-du-r
 ire-formation-lausanne-en-2-jours
DTSTART;TZID=Europe/Paris:20151017T000000
DTEND;TZID=Europe/Paris:20151018T235900
CATEGORIES:tous
LOCATION:Centre de formation
WEBSITE:http://www.formation-yogadurire.fr/animateur-club-du-rire#DATE
 SFORMATION
URL:http://www.formation-yogadurire.fr/animateur-club-du-rire#DATESFOR
 MATION
CONTACT:
ORGANIZER:Fabrice Loizeau Université internationale du yoga du rire
ATTACH;FMTTYPE="image/jpeg":http://storage.ning.com/topology/rest/1.0/
 file/get/1663458089?profile=original
ATTENDEE;ROLE=REQ-PARTICIPANT;PARTSTAT=ACCEPTED;RSVP=TRUE;CN="Fabrire 
 Loizeau":https://epanews.fr/profile/FabrireLoizeau
END:VEVENT
END:VCALENDAR
