BEGIN:VCALENDAR
PRODID:NingEventWidget-v1
VERSION:2.0
METHOD:PUBLISH
BEGIN:VTIMEZONE
TZID:Europe/Paris
X-LIC-LOCATION:Europe/Paris
BEGIN:DAYLIGHT
TZOFFSETFROM:+0100
TZOFFSETTO:+0200
TZNAME:CEST
DTSTART:19700329T020000
RRULE:FREQ=YEARLY;BYMONTH=3;BYDAY=-1SU
END:DAYLIGHT
BEGIN:STANDARD
TZOFFSETFROM:+0200
TZOFFSETTO:+0100
TZNAME:CET
DTSTART:19701025T030000
RRULE:FREQ=YEARLY;BYMONTH=10;BYDAY=-1SU
END:STANDARD
END:VTIMEZONE
BEGIN:VEVENT
UID:2485226:Event:171328
DTSTAMP:20260425T001333Z
SUMMARY:Yoga du Rire
DESCRIPTION:YOGA DU RIRE\nN’hésitez-pas, venez rire avec nous\net f
 aire jaillir une merveilleuse énergie positive\n\ntous les 2ème jeud
 i du mois.\n\nRéservation obligatoire.\n\nParce que le rire,\n☺☺ 
 c’est la santé : excellente médecine pour le corps et l’esprit,
 \n☺☺ c’est le propre de l’homme,\n☺☺ c’est un trait d’
 union qui permet, sans se comprendre ni se parler,\nla plus belle des 
 communions entre des êtres humains.\n\n« Le rire est une gymnastiqu
 e mentale, musculaire et respiratoire .Il aide à vivre plus longtemps
  et en meilleure santé » Dr Henri Rubeinstein.\n\nAvec Geneviève D
 ESPRAUX.\nSOPHROLOGUE (n° Siret : 507 826 329).\nCabinet : 06 16 
 74 53 92.\n\nParticipation financière :10 euros.\n\nPour plus d'infor
 mation, aller sur https://epanews.fr/events/yoga-du-rire-3
DTSTART;TZID=Europe/Paris:20110113T200000
DTEND;TZID=Europe/Paris:20110113T213000
CATEGORIES:83
LOCATION:Salon de thé Bio & Bien-être \"Come à la maison\" Ollioule
 s
WEBSITE:http://www.83ollioules.com/salon-de-the
URL:http://www.83ollioules.com/salon-de-the
CONTACT:04.89.29.67.00
ORGANIZER:Despraux Geneviève
ATTACH;FMTTYPE="image/jpeg":http://storage.ning.com/topology/rest/1.0/
 file/get/1662367262?profile=original
ATTENDEE;ROLE=REQ-PARTICIPANT;PARTSTAT=ACCEPTED;RSVP=TRUE;CN="Geneviè
 ve DESPRAUX":https://epanews.fr/profile/GenevieveDESPRAUX
ATTENDEE;ROLE=REQ-PARTICIPANT;PARTSTAT=ACCEPTED;RSVP=TRUE;CN="Bezard s
 abryna":https://epanews.fr/profile/Bezardsabryna
ATTENDEE;ROLE=REQ-PARTICIPANT;PARTSTAT=TENTATIVE;RSVP=TRUE;CN="Pierre 
 de Lune":https://epanews.fr/profile/PascaleDegioanni
ATTENDEE;ROLE=REQ-PARTICIPANT;PARTSTAT=TENTATIVE;RSVP=TRUE;CN=Bertrand
 :https://epanews.fr/profile/Bertrand86
END:VEVENT
END:VCALENDAR
