BEGIN:VCALENDAR
PRODID:NingEventWidget-v1
VERSION:2.0
METHOD:PUBLISH
BEGIN:VTIMEZONE
TZID:Europe/Paris
X-LIC-LOCATION:Europe/Paris
BEGIN:DAYLIGHT
TZOFFSETFROM:+0100
TZOFFSETTO:+0200
TZNAME:CEST
DTSTART:19700329T020000
RRULE:FREQ=YEARLY;BYMONTH=3;BYDAY=-1SU
END:DAYLIGHT
BEGIN:STANDARD
TZOFFSETFROM:+0200
TZOFFSETTO:+0100
TZNAME:CET
DTSTART:19701025T030000
RRULE:FREQ=YEARLY;BYMONTH=10;BYDAY=-1SU
END:STANDARD
END:VTIMEZONE
BEGIN:VEVENT
UID:2485226:Event:1825977
DTSTAMP:20260425T145058Z
SUMMARY:Yoga du rire
DESCRIPTION:Vendredi 21 Mars Ã  19h\nÂ \nY a-t-il un enfant rieur en t
 oi qui a besoin de sâ€™exprimer?\nÂ \nViens donc dÃ©couvrir ou redÃ©co
 uvrir le yoga du rire, il se pratique en groupe de faÃ§on ludique et p
 ermet de provoquer et de dÃ©clencher des rires vrais.\nLe yoga du rire
  se distingue de celui gÃ©nÃ©rÃ© par l'humour, et il est dÃ©clenchÃ© p
 ar notre propre volontÃ© de rire.\nÂ \nIl est bien connu depuis longte
 mps que rire est bÃ©nÃ©fique pour lâ€™Ãªtre humain;\nil est un antidot
 e naturel contre le stressÂ !\nIl y aura aussi des exercices de respir
 ation et relaxation.\nÂ \nPARTICIPATION AUX FRAIS de 5 euros\nPour plu
 s dâ€™informationÂ : Stefano 06.23.05.43.70Â Â \nÂ CREATICOULEUR\nÂ \n
 Zone commerciale de La Valette\nParc St Claire\nAllÃ©e de la LavandeÂ 
 \nAu 1erÂ Ã©tage au dessus des magasins de meuble Â«Â Le VersaillesÂ Â
 » et Spa jacuzzi\nÂ \nÂ \nÂ \nÂ \nÂ \nÂ \nÂ \nÂ Pour les personnes qui
  le dÃ©sirent, Ã  la fin de la sÃ©ance nous allons partager un repas c
 onvivial, avec ce que nous aurons apportÃ©!\n\nPour plus d'information
 , aller sur https://epanews.fr/events/yoga-du-rire-27
DTSTART;TZID=Europe/Paris:20140321T190000
DTEND;TZID=Europe/Paris:20140321T210000
CATEGORIES:83
LOCATION:Zone commerciale de la Valette du Var
WEBSITE:https://maps.google.fr/maps?q=allee-de-la-lavande-83160-la-val
 ette-du-var
URL:https://maps.google.fr/maps?q=allee-de-la-lavande-83160-la-valette
 -du-var
CONTACT:06.23.05.43.70
ORGANIZER;CN="Stefano PASSIGATTI":https://epanews.fr/profile/StefanoPA
 SSIGATTI
ATTACH;FMTTYPE="image/jpeg":http://storage.ning.com/topology/rest/1.0/
 file/get/1663030709?profile=original
ATTENDEE;ROLE=REQ-PARTICIPANT;PARTSTAT=ACCEPTED;RSVP=TRUE;CN="Stefano 
 PASSIGATTI":https://epanews.fr/profile/StefanoPASSIGATTI
END:VEVENT
END:VCALENDAR
