BEGIN:VCALENDAR
PRODID:NingEventWidget-v1
VERSION:2.0
METHOD:PUBLISH
BEGIN:VTIMEZONE
TZID:Europe/Paris
X-LIC-LOCATION:Europe/Paris
BEGIN:DAYLIGHT
TZOFFSETFROM:+0100
TZOFFSETTO:+0200
TZNAME:CEST
DTSTART:19700329T020000
RRULE:FREQ=YEARLY;BYMONTH=3;BYDAY=-1SU
END:DAYLIGHT
BEGIN:STANDARD
TZOFFSETFROM:+0200
TZOFFSETTO:+0100
TZNAME:CET
DTSTART:19701025T030000
RRULE:FREQ=YEARLY;BYMONTH=10;BYDAY=-1SU
END:STANDARD
END:VTIMEZONE
BEGIN:VEVENT
UID:2485226:Event:572393
DTSTAMP:20260423T131224Z
SUMMARY:Yoga du Rire
DESCRIPTION:Â Pour faire jaillir une merveilleuse Ã©nergie positive.ï»
 ¿\nÂ Parce que \"le rireÂ  est une gymnastique mentale, musculaireÂ  e
 t respiratoire. Il aide Ã  vivre plus longtemps et en meilleure santÃ©
 \". Dr Henri Rubinstein\nParce ce que \"le jeuÂ  est une fonction rich
 e de sens, il dÃ©passe mÃªme la biologie\" Huizinga\nParticipation 13 
 euros, places limitÃ©es, inscription obligatoire. Informations et rÃ©s
 ervations auprÃ¨s de GeneviÃ¨ve DESPRAUX, Sophrologue et Animatrice en
  Yoga du Rire\n\nPour plus d'information, aller sur https://epanews.fr
 /events/yoga-du-rire-12
DTSTART;TZID=Europe/Paris:20111119T150000
DTEND;TZID=Europe/Paris:20111119T160000
CATEGORIES:13, et, 83
LOCATION:Toulon
WEBSITE:http://sophrologues.org/genevieve despraux
URL:http://sophrologues.org/genevieve despraux
CONTACT:06 16 74 53 92
ORGANIZER;CN="GeneviÃ¨ve DESPRAUX":https://epanews.fr/profile/Geneviev
 eDESPRAUX
ATTACH;FMTTYPE="image/jpeg":http://storage.ning.com/topology/rest/1.0/
 file/get/1662477859?profile=original
ATTENDEE;ROLE=REQ-PARTICIPANT;PARTSTAT=ACCEPTED;RSVP=TRUE;CN="GeneviÃ¨
 ve DESPRAUX":https://epanews.fr/profile/GenevieveDESPRAUX
END:VEVENT
END:VCALENDAR
