BEGIN:VCALENDAR
PRODID:NingEventWidget-v1
VERSION:2.0
METHOD:PUBLISH
BEGIN:VTIMEZONE
TZID:Europe/Paris
X-LIC-LOCATION:Europe/Paris
BEGIN:DAYLIGHT
TZOFFSETFROM:+0100
TZOFFSETTO:+0200
TZNAME:CEST
DTSTART:19700329T020000
RRULE:FREQ=YEARLY;BYMONTH=3;BYDAY=-1SU
END:DAYLIGHT
BEGIN:STANDARD
TZOFFSETFROM:+0200
TZOFFSETTO:+0100
TZNAME:CET
DTSTART:19701025T030000
RRULE:FREQ=YEARLY;BYMONTH=10;BYDAY=-1SU
END:STANDARD
END:VTIMEZONE
BEGIN:VEVENT
UID:2485226:Event:1150026
DTSTAMP:20260420T214132Z
SUMMARY:Yoga du Rire
DESCRIPTION:YOGA DU RIRE une Formidable « Thérapie »\n1- Pas beso
 in de raison pour rire, le yoga du rire est un concept nouveau, facile
 , accessible et immédiat.\n2- Le yoga du rire est basé sur un fait s
 cientifique : le corps ne fait pas la différence entre un rire simul
 é et un rire naturel.\n3- C’est une combinaison d’exercices de ri
 res, de streching doux et de respirations.\n4- Le groupe permet d’ac
 céder facilement au rire : il devient vite contagieux.\n5- C’est u
 n médecin qui a crée le yoga du rire en 1995. C’est un phénomène
  planétaire dans plus de 60 pays.\nQue vous apporte le Yoga du Rire 
 ?\n1- Installation de la bonne humeur et plus de rires : La qualité 
 de nos journées dépens de notre bonne humeur. Si notre humeur est po
 sitive, alors notre journée sera joyeuse.Le rire change notre humeur 
 en quelques minutes en libérant des endorphines naturelles, les hormo
 nes du bien-être.\n2- Excercice sain et anti-stress : Pratiquer le Y
 oga du Rire, c’est aussi pratiquer le cardio training qui apporte pl
 us d’oxygéne à votre corps, aux organes et aux cellules. Vous en r
 essentirez l’énergie et la sensation de dynamisme, d’être « da
 ns sa peau ». Avec le Yoga du Rire, vous détruisez point par point 
 ce que le stress à construit : le stress n’y résiste pas, idéal 
 pour libérer les tensions.\n3- Bienfaits pour la santé : L’impact
  sur la santé est désormais reconnu : le Yoga du Rire renforce votr
 e système immunitaire et contribue à la guérison de pathologie comm
 e l’hypertension, les maladies cardiaques, le diabètes, la dépress
 ion, les allergies, l’asthme, la bronchite, le mal de dos, le cancer
  et améliore significativement les troubles du sommeil, les migraines
 , les douleurs….\n4- Qualité de vie : Le bonheur se mesure égalem
 ent par la qualité de ses relations sociales et le partage entre amis
  … Le rire est une énergie positive qui vous aide à communiquer r
 apidement instaure une « relation plaisir ». Vous attirerez et ser
 ez attiré par le positif, votre réseau amical va s’enrichir.\n5- P
 ositive attitude en temps de crise : Rire vous aide à forger un ment
 al positif pour faire face aux situations et personnes négatives. Il 
 vous donne espoir et l’optimisme pour mieux aborder les situations d
 ifficiles. Le Yoga du Rire vous aide à faire face aux défis quotidie
 ns.\n \n\nLe Yoga du Rire est un concept nouveau, Facile, Efficace, A
 ccessible à tous et Immédiat.  Préparez-vous à faire le Plein de P
 ositif, de Dynamisme, de Bonne Humeur, de Vitalité. Vous allez Révei
 llez votre JOIE de VIVRE, Combattre le STRESS, Améliorer votre SANTE.
 ...\nVous allez adorer… alors venez\n               A Biarr
 itz Librairie A Bras le Coeur \n                   Jeudi 1
 4 Février de 19H à 20H\n \n \n        \nInscriptions et Rense
 ignements auprès de\nFabienne Ducournau 06 59 85 93 62 contact@eveil
 lersonetre.fr   Site:www.eveillersonetre.fr\n\nPour plus d'informati
 on, aller sur https://epanews.fr/events/yoga-du-rire-10
DTSTART;TZID=Europe/Paris:20130214T190000
DTEND;TZID=Europe/Paris:20130214T200000
CATEGORIES:64
LOCATION:Biarritz
WEBSITE:http://www.eveillersonetre.fr
URL:http://www.eveillersonetre.fr
CONTACT:0659859362
ORGANIZER;CN="Ducournau Fabienne":https://epanews.fr/profile/Ducournau
ATTACH;FMTTYPE="image/jpeg":
ATTENDEE;ROLE=REQ-PARTICIPANT;PARTSTAT=ACCEPTED;RSVP=TRUE;CN="Ducourna
 u Fabienne":https://epanews.fr/profile/Ducournau
END:VEVENT
END:VCALENDAR
