BEGIN:VCALENDAR
PRODID:NingEventWidget-v1
VERSION:2.0
METHOD:PUBLISH
BEGIN:VTIMEZONE
TZID:Europe/Paris
X-LIC-LOCATION:Europe/Paris
BEGIN:DAYLIGHT
TZOFFSETFROM:+0100
TZOFFSETTO:+0200
TZNAME:CEST
DTSTART:19700329T020000
RRULE:FREQ=YEARLY;BYMONTH=3;BYDAY=-1SU
END:DAYLIGHT
BEGIN:STANDARD
TZOFFSETFROM:+0200
TZOFFSETTO:+0100
TZNAME:CET
DTSTART:19701025T030000
RRULE:FREQ=YEARLY;BYMONTH=10;BYDAY=-1SU
END:STANDARD
END:VTIMEZONE
BEGIN:VEVENT
UID:2485226:Event:2771536
DTSTAMP:20260420T173702Z
SUMMARY:Yoga des sons
DESCRIPTION:Je vous propose de dÃ©couvrir le Yoga des Sons\nÃ  travers
  9 Voyelles que nous allons vocaliser 4 Ã  5 fois chacune\nA Ã¨ Ã© I U
  OU EU O AUM\nPour faire circuler l'Ã©nergie dans le corps\nnous prati
 querons, entre chaque voyelle, des mouvements deÂ \nYoga et des 5 TibÃ
 ©tains\nApportez une bouteille d'eau et prÃ©voyez des vÃªtements confo
 rtables pour la sÃ©ance.\nDurÃ©e 1 H 30 Tarif 10 euros\n\nPour plus d'
 information, aller sur https://epanews.fr/events/yoga-des-sons
DTSTART;TZID=Europe/Paris:20170112T200000
DTEND;TZID=Europe/Paris:20170112T213000
CATEGORIES:69
LOCATION:Lyon 4e
WEBSITE:https://www.google.fr/maps/place/12+Rue+Gigodot,+69004+Lyon/@4
 5.7783936,4.8335794,17z/data=!3m1!4b1!4m5!3m4!1s0x47f4eae1613333d9:0xe
 e5c8213524ad87!8m2!3d45.7783899!4d4.8357681?hl=fr
URL:https://www.google.fr/maps/place/12+Rue+Gigodot,+69004+Lyon/@45.77
 83936,4.8335794,17z/data=!3m1!4b1!4m5!3m4!1s0x47f4eae1613333d9:0xee5c8
 213524ad87!8m2!3d45.7783899!4d4.8357681?hl=fr
CONTACT:0602275638
ORGANIZER;CN=Annalya:https://epanews.fr/profile/Annalya
ATTACH;FMTTYPE="image/jpeg":http://storage.ning.com/topology/rest/1.0/
 file/get/1663636768?profile=original
ATTENDEE;ROLE=REQ-PARTICIPANT;PARTSTAT=ACCEPTED;RSVP=TRUE;CN=Annalya:h
 ttps://epanews.fr/profile/Annalya
END:VEVENT
END:VCALENDAR
