BEGIN:VCALENDAR
PRODID:NingEventWidget-v1
VERSION:2.0
METHOD:PUBLISH
BEGIN:VTIMEZONE
TZID:Europe/Paris
X-LIC-LOCATION:Europe/Paris
BEGIN:DAYLIGHT
TZOFFSETFROM:+0100
TZOFFSETTO:+0200
TZNAME:CEST
DTSTART:19700329T020000
RRULE:FREQ=YEARLY;BYMONTH=3;BYDAY=-1SU
END:DAYLIGHT
BEGIN:STANDARD
TZOFFSETFROM:+0200
TZOFFSETTO:+0100
TZNAME:CET
DTSTART:19701025T030000
RRULE:FREQ=YEARLY;BYMONTH=10;BYDAY=-1SU
END:STANDARD
END:VTIMEZONE
BEGIN:VEVENT
UID:2485226:Event:818474
DTSTAMP:20260421T184844Z
SUMMARY:Yoga de la Peinture à mains nues
DESCRIPTION:Atelier ART-MANO Thérapie : Peinture intuitive à mains 
 nues YOGA de la PEINTURE  pour rétablir sainement votre plan relation
 nel\nUne rencontre avec soi même au travers d'une aventure picturale 
 ludique, riche en couleurs et en sensations pour reconnecter son poten
 tiel créatif et la confiance en soi. Une découverte de soi au prése
 nt dans un défaire de ce que je ne suis pas. Un moyen concret de se V
 oir autrement pour se Vivre Simplement.\n \nRenseignements et inscrip
 tions au 06.21.03.57.59 ou par mail : espacezenitude@free.fr\n \nRet
 rouvez l’univers d’AMANO sur :\nwww.art-mano.com\n\n\nPour plus d
 'information, aller sur https://epanews.fr/events/yoga-de-la-peinture-
 mains-nues
DTSTART;TZID=Europe/Paris:20120519T100000
DTEND;TZID=Europe/Paris:20120520T180000
CATEGORIES:33
LOCATION:Mios sur le Bassin d'Arcachon
WEBSITE:
URL:
CONTACT:
ORGANIZER;CN=LILINAT:https://epanews.fr/profile/LILINAT
ATTACH;FMTTYPE="image/jpeg":http://storage.ning.com/topology/rest/1.0/
 file/get/1662607254?profile=original
ATTENDEE;ROLE=REQ-PARTICIPANT;PARTSTAT=ACCEPTED;RSVP=TRUE;CN=LILINAT:h
 ttps://epanews.fr/profile/LILINAT
END:VEVENT
END:VCALENDAR
