BEGIN:VCALENDAR
PRODID:NingEventWidget-v1
VERSION:2.0
METHOD:PUBLISH
BEGIN:VTIMEZONE
TZID:Europe/Paris
X-LIC-LOCATION:Europe/Paris
BEGIN:DAYLIGHT
TZOFFSETFROM:+0100
TZOFFSETTO:+0200
TZNAME:CEST
DTSTART:19700329T020000
RRULE:FREQ=YEARLY;BYMONTH=3;BYDAY=-1SU
END:DAYLIGHT
BEGIN:STANDARD
TZOFFSETFROM:+0200
TZOFFSETTO:+0100
TZNAME:CET
DTSTART:19701025T030000
RRULE:FREQ=YEARLY;BYMONTH=10;BYDAY=-1SU
END:STANDARD
END:VTIMEZONE
BEGIN:VEVENT
UID:2485226:Event:2897058
DTSTAMP:20260421T234555Z
SUMMARY:Yaël
DESCRIPTION:Taddam!!!!Festival Naissance Sacrée dans le Lubéron,Le 2
 5 novembre et 26 Novembre 2017Naissance sacrée , festival ou nous all
 ons fêter, danser, rencontrer ce passage, cet enfant.Naissance bienve
 illante. Ou nous allons parents et futurs parents échanger, tisser du
  lien, partager, se rencontrer.Accueillir la vie, en joie, en douceur,
  en rire , en chanson, en peinture, en ronde entre femmes, hommes, gra
 nd- parents, petits enfants.Passage sacré, ou femme tu deviens mère,
  terre, fleur ou la vie danse dans ton ventre et enfanteAtelier, parta
 ge, causerie, rire, création, ressources, chant, yoga, film , peintur
 e, livres, tambour , musique....Entrée payante, sur pré- réservatio
 n + ( fiche d' inscription à demandée et accompte à envoyer)> Info 
 au Yaël 06 20 34 54 99 / https://www.yaelchandesarbres.com/Rdv à la
  Fontaine de l'aube, Cadenet 84.Possibilité de dormir su place la vei
 lle et le samedi soir ( à réserver, participation payante)Coût du w
 eek- end: : 100 euros ou 55 euros la journée.Pour la restauration: re
 pas tiré du sac​Programme sur la page du site ou la page https://w
 ww.facebook.com/Naissance-Sacrée-Festival-715238045284946/\n\nPour pl
 us d'information, aller sur https://epanews.fr/events/ya-l
DTSTART;TZID=Europe/Paris:20171125T000000
DTEND;TZID=Europe/Paris:20171125T235900
CATEGORIES:84
LOCATION:cadette lubéron
WEBSITE:
URL:
CONTACT:
ORGANIZER;CN=Yaël:https://epanews.fr/profile/yael
ATTACH;FMTTYPE="image/jpeg":http://storage.ning.com/topology/rest/1.0/
 file/get/1663698972?profile=original
ATTENDEE;ROLE=REQ-PARTICIPANT;PARTSTAT=ACCEPTED;RSVP=TRUE;CN=Yaël:htt
 ps://epanews.fr/profile/yael
END:VEVENT
END:VCALENDAR
