BEGIN:VCALENDAR
PRODID:NingEventWidget-v1
VERSION:2.0
METHOD:PUBLISH
BEGIN:VTIMEZONE
TZID:Europe/Paris
X-LIC-LOCATION:Europe/Paris
BEGIN:DAYLIGHT
TZOFFSETFROM:+0100
TZOFFSETTO:+0200
TZNAME:CEST
DTSTART:19700329T020000
RRULE:FREQ=YEARLY;BYMONTH=3;BYDAY=-1SU
END:DAYLIGHT
BEGIN:STANDARD
TZOFFSETFROM:+0200
TZOFFSETTO:+0100
TZNAME:CET
DTSTART:19701025T030000
RRULE:FREQ=YEARLY;BYMONTH=10;BYDAY=-1SU
END:STANDARD
END:VTIMEZONE
BEGIN:VEVENT
UID:2485226:Event:979930
DTSTAMP:20260420T095017Z
SUMMARY:Whirling, la danse du tournoiement
DESCRIPTION:L enseignement du whirling, la danse mystique du tournoiem
 ent.www.whirling121.com\n\nPour plus d'information, aller sur https://
 epanews.fr/events/whirling-la-danse-du-tournoiement
DTSTART;TZID=Europe/Paris:20121020T110000
DTEND;TZID=Europe/Paris:20121021T140000
CATEGORIES:75
LOCATION:Paris
WEBSITE:
URL:
CONTACT:0671848485
ORGANIZER;CN="Danse des derviches tourneurs-":https://epanews.fr/profi
 le/Sparfel925
ATTACH;FMTTYPE="image/jpeg":http://storage.ning.com/topology/rest/1.0/
 file/get/1662683126?profile=original
ATTENDEE;ROLE=REQ-PARTICIPANT;PARTSTAT=ACCEPTED;RSVP=TRUE;CN="Danse de
 s derviches tourneurs-":https://epanews.fr/profile/Sparfel925
END:VEVENT
END:VCALENDAR
