BEGIN:VCALENDAR
PRODID:NingEventWidget-v1
VERSION:2.0
METHOD:PUBLISH
BEGIN:VTIMEZONE
TZID:Europe/Paris
X-LIC-LOCATION:Europe/Paris
BEGIN:DAYLIGHT
TZOFFSETFROM:+0100
TZOFFSETTO:+0200
TZNAME:CEST
DTSTART:19700329T020000
RRULE:FREQ=YEARLY;BYMONTH=3;BYDAY=-1SU
END:DAYLIGHT
BEGIN:STANDARD
TZOFFSETFROM:+0200
TZOFFSETTO:+0100
TZNAME:CET
DTSTART:19701025T030000
RRULE:FREQ=YEARLY;BYMONTH=10;BYDAY=-1SU
END:STANDARD
END:VTIMEZONE
BEGIN:VEVENT
UID:2485226:Event:1069711
DTSTAMP:20260420T043312Z
SUMMARY:Weekend TANTSU Ã  Toulouse les 16 et 17 FÃ©vrier 2013
DESCRIPTION:\n\n\nhttp://www.watage.eu/tantsuatoulouse.html  Le Tantsu
  est une forme de massage issue du Watsu, le Shiatsu dans l'eau. En in
 tÃ©grant les bienfaits, il donne de l'espace Ã  l'Ã©coute et Ã  l'empa
 thie. Ã‰coute du souffle, des vibrations, du systÃ¨me nerveux, des Ã©n
 ergies... Il offre une connexion Ã  double sens et permet au receveur 
 de donner autant qu'il reÃ§oit. Le Tantsu a une action au niveau biomÃ
 ©canique, osseux, musculaire, lymphatique..., au niveau Ã©nergÃ©tique 
 en intÃ©grant la mÃ©decine traditionnelle chinoise, ainsi quâ€™au nive
 au mÃ©ditatif. Il permet, en outre, de dÃ©velopper la capacitÃ© Ã  bou
 ger au sol avec souplesse et fluiditÃ© et offre de nouvelles solutions
  grÃ¢ce Ã  ses diffÃ©rents \"Berceaux\". Il se dit Tantrique par son a
 pproche de l'amour universel Ã¡ partager. Ces deux jours au gÃ®te Poul
 â€™art seront animÃ©s par Emmanuel Pastor.Â \n\nPour plus d'informatio
 n,vous pouvez consulter le site d'Emmanuel :Â http://www.watage.eu/tan
 tsuatoulouse.html.Â \nÂ \nLa participation pour le weekend est de 150â
 ‚¬ + 90â‚¬ pour l'hÃ©bergement et les repas.\nLe stage Ã  lieu au gite
  le Poul'art (http://www.le-poulart.fr/) Ã  Rieumes. Il commence le Sa
 medi Ã  10h00 et se termine le Dimanche Ã  17h00.\nRenseignements et I
 nscription auprÃ¨s de Philippe Pastor : 06 62 04 97 03 -Â philippe.pas
 tor@gmail.com\n\n\n\n\n\n\n\n\nPour plus d'information, aller sur http
 s://epanews.fr/events/weekend-tantsu-toulouse-les-16-et-17-f-vrier-201
 3
DTSTART;TZID=Europe/Paris:20130216T000000
DTEND;TZID=Europe/Paris:20130217T235900
CATEGORIES:31
LOCATION:Gite Poul'art, Rieumes (31)
WEBSITE:http://www.watage.eu/tantsuatoulouse.html
URL:http://www.watage.eu/tantsuatoulouse.html
CONTACT:
ORGANIZER;CN=Philippe:https://epanews.fr/profile/philippepastor
ATTACH;FMTTYPE="image/jpeg":http://storage.ning.com/topology/rest/1.0/
 file/get/1662730050?profile=original
ATTENDEE;ROLE=REQ-PARTICIPANT;PARTSTAT=ACCEPTED;RSVP=TRUE;CN=Philippe:
 https://epanews.fr/profile/philippepastor
END:VEVENT
END:VCALENDAR
