BEGIN:VCALENDAR
PRODID:NingEventWidget-v1
VERSION:2.0
METHOD:PUBLISH
BEGIN:VTIMEZONE
TZID:Europe/Paris
X-LIC-LOCATION:Europe/Paris
BEGIN:DAYLIGHT
TZOFFSETFROM:+0100
TZOFFSETTO:+0200
TZNAME:CEST
DTSTART:19700329T020000
RRULE:FREQ=YEARLY;BYMONTH=3;BYDAY=-1SU
END:DAYLIGHT
BEGIN:STANDARD
TZOFFSETFROM:+0200
TZOFFSETTO:+0100
TZNAME:CET
DTSTART:19701025T030000
RRULE:FREQ=YEARLY;BYMONTH=10;BYDAY=-1SU
END:STANDARD
END:VTIMEZONE
BEGIN:VEVENT
UID:2485226:Event:22692
DTSTAMP:20260420T022907Z
SUMMARY:WEEK-END MBEH : Massage de Bien-ÃŠtre Holistique
DESCRIPTION:Massage de Bien-ÃŠtre Holistique\nweek-end 5 & 6 dÃ©cembre
  2009\n\nPROGRAMME\nDÃ©monstration et application sur table de massage
  des mouvements fondamentaux (dos, jambes, mains, pieds, ventre, â€¦).
 \nTravail sur l'Ã©quilibre physique du Â«masseurÂ» (exercices corporel
 s).\nRe-dÃ©couverte de son corps, ses possibles, ses limites.\nÃ‰coute
  et accompagnement du Â«massÃ©Â» (son corps, les mouvements, la respir
 ation, ...).\nApprendre le dialogue non-verbal et ses spÃ©cificitÃ©s.\
 nLes liens entre le physique et le psychique.\nNotions d'anatomie et d
 e physiologie.\n\nVous serez tour Ã  tour Â« masseur Â» et Â« massÃ© Â
 ». Des temps de parole permettront Ã  chacun de mettre des mots sur so
 n ressenti.\n\nPublic : accessible Ã  tous.\nPour toute premiÃ¨re insc
 ription : nous tÃ©lÃ©phoner.\n\nTarif : 180 â‚¬.\nTarif \"Ã©panews\" :
  - 10%.\nEn cas de difficultÃ©s pÃ©cuniaires : nous tÃ©lÃ©phoner.\n\nF
 ormateurs professionnels : Jean ROCHETTE & Carol VERGER, membre FFMBE 
 & FF2P.\nLieu : Centre du Mont â€¢ 8 rue des trois FrÃ¨res BarthÃ©lÃ©m
 y â€¢ F-13006 MARSEILLE\n\nPour plus d'information, aller sur https://
 epanews.fr/events/weekend-mbeh-massage-de
DTSTART;TZID=Europe/Paris:20091205T100000
DTEND;TZID=Europe/Paris:20091206T170000
CATEGORIES:13
LOCATION:STAGE MASSAGE Ã€ MARSEILLE
WEBSITE:http://www.les13portes.com
URL:http://www.les13portes.com
CONTACT:06 11 89 20 34
ORGANIZER;CN=VERGER:https://epanews.fr/profile/VERGER
ATTACH;FMTTYPE="image/jpeg":http://storage.ning.com/topology/rest/1.0/
 file/get/1662282765?profile=original
ATTENDEE;ROLE=REQ-PARTICIPANT;PARTSTAT=ACCEPTED;RSVP=TRUE;CN=VERGER:ht
 tps://epanews.fr/profile/VERGER
END:VEVENT
END:VCALENDAR
