BEGIN:VCALENDAR
PRODID:NingEventWidget-v1
VERSION:2.0
METHOD:PUBLISH
BEGIN:VTIMEZONE
TZID:Europe/Paris
X-LIC-LOCATION:Europe/Paris
BEGIN:DAYLIGHT
TZOFFSETFROM:+0100
TZOFFSETTO:+0200
TZNAME:CEST
DTSTART:19700329T020000
RRULE:FREQ=YEARLY;BYMONTH=3;BYDAY=-1SU
END:DAYLIGHT
BEGIN:STANDARD
TZOFFSETFROM:+0200
TZOFFSETTO:+0100
TZNAME:CET
DTSTART:19701025T030000
RRULE:FREQ=YEARLY;BYMONTH=10;BYDAY=-1SU
END:STANDARD
END:VTIMEZONE
BEGIN:VEVENT
UID:2485226:Event:752258
DTSTAMP:20260422T052015Z
SUMMARY:weekend dÃ©couverte yoga cuisine et  massage ayurvÃ©dique
DESCRIPTION:Dans un lieu oÃ¹ le calme et la nature nous accompagnent v
 ers un retour aux sources â€¦Nous vous accueillons Sous Les Yourtes en
  pension complÃ¨te, pour dÃ©couvrir 3 pratiques ayurvÃ©diques et leurs
  bienfaits. Un stage riche et variÃ©, ouvert Ã  tous pour apprendre et
  partagerÂ  le yoga, le massage et la cuisine ayurvÃ©dique. ..3 branch
 es dâ€™une seule voie, celle de lâ€™Ã©panouissement et de la paix intÃ
 ©rieure. 2 DATES: du 18 au 20 mai et du 15 au 17 juin 2012, du vendred
 i soir au dimanche fin dâ€™aprÃ¨s midi. TARIF: stage, hÃ©bergement et 
 repas: 250â‚¬ - 6 personnes maxi pour un apprentissage personnalisÃ©.\
 nQuâ€™est ce que Lâ€™Ayurveda ?\nLâ€™Ayurveda est la MÃ©decine traditi
 onnelle indienne.Câ€™est une philosophie, un art de vivre. Elle a dÃ©v
 eloppÃ© des techniques corporelles pour rÃ©pondre Ã  une hygiÃ¨ne de v
 ie concernant le corps lâ€™esprit et lâ€™Ã¢me: Yoga, massages, aliment
 ation, travail sur la respiration, mÃ©ditation...   Le yoga avec ValÃ©
 rie La pratique des postures cultive notre capacitÃ© Ã  observer le mo
 ment prÃ©sent afin de mieux comprendre la vrai nature des choses. En e
 xplorant le potentiel du corps Ã  travers le yoga on apprend Ã  contrÃ
 ´ler le mental, Ã  harmoniser corps et esprit afin de re-connaÃ®tre le
  Soi intÃ©rieur. Durant ce weekend dÃ©couverte nous aborderons les asa
 nas dans un travail de recherche dâ€™Ã©tirement, de stabilitÃ©, de ton
 ification et de dÃ©tente profonde.   La Cuisine avec Ariane Lâ€™art cu
 linaire ayurvÃ©dique tient compte des aliments, des saisons, du lieu, 
 des six saveurs, des individus et de leur constitution. Dans lâ€™Ayurv
 eda, chaque repas est une fÃªte pour les sens. Câ€™est dans cette Ã©ne
 rgie que nous prÃ©parerons les repas avant de les dÃ©guster ensemble. 
   Le Massage avec Karine C est un art subtil qui vient du coeur. Au de
 lÃ  de la technique, la prÃ©sence et lâ€™attention permettent la crÃ©a
 tion dâ€™un toucher unique. Apprendre, sentir, donner, crÃ©er, sâ€™Ã©l
 ever grÃ¢ce au toucher... le massage est une porte vers des dimensions
  plus Ã©levÃ©es. A travers certains mouvements, nous tenterons de sent
 ir lâ€™Ã©change qui se crÃ©e et qui nous rapproche de lâ€™unitÃ©.\n\nP
 our plus d'information, aller sur https://epanews.fr/events/weekend-d-
 couverte-yoga-cuisine-et-massage-ayurv-dique
DTSTART;TZID=Europe/Paris:20120518T180000
DTEND;TZID=Europe/Paris:20120520T180000
CATEGORIES:34
LOCATION:cazilhac / ganges
WEBSITE:http://www.souleyourt.com www.univers-l-etre.fr
URL:http://www.souleyourt.com www.univers-l-etre.fr
CONTACT:06 69 39 07 32
ORGANIZER;CN=Karine:https://epanews.fr/profile/KarineTorrecilla
ATTACH;FMTTYPE="image/jpeg":http://storage.ning.com/topology/rest/1.0/
 file/get/1662582553?profile=original
ATTENDEE;ROLE=REQ-PARTICIPANT;PARTSTAT=ACCEPTED;RSVP=TRUE;CN=Karine:ht
 tps://epanews.fr/profile/KarineTorrecilla
END:VEVENT
END:VCALENDAR
