BEGIN:VCALENDAR
PRODID:NingEventWidget-v1
VERSION:2.0
METHOD:PUBLISH
BEGIN:VTIMEZONE
TZID:Europe/Paris
X-LIC-LOCATION:Europe/Paris
BEGIN:DAYLIGHT
TZOFFSETFROM:+0100
TZOFFSETTO:+0200
TZNAME:CEST
DTSTART:19700329T020000
RRULE:FREQ=YEARLY;BYMONTH=3;BYDAY=-1SU
END:DAYLIGHT
BEGIN:STANDARD
TZOFFSETFROM:+0200
TZOFFSETTO:+0100
TZNAME:CET
DTSTART:19701025T030000
RRULE:FREQ=YEARLY;BYMONTH=10;BYDAY=-1SU
END:STANDARD
END:VTIMEZONE
BEGIN:VEVENT
UID:2485226:Event:137123
DTSTAMP:20260420T074919Z
SUMMARY:Weekend Biodanza
DESCRIPTION:Biodanza, stage Weekend, 20/21 novembre\nThÃ¨me : La symbo
 lique des Animaux\nA Galan, Hautes-PyrÃ©nÃ©es\nStage animÃ© par GÃ©rar
 d\nTarif par stage: 100â‚¬/pers... 90â‚¬/pers. pour les couples...\nRÃ
 ©servation indispensable.\nToutes les infos sur le site: www.biodanza.
 sup.fr\nRenseignements par mail schwaar@sfr.fr ou par tÃ©lÃ©phone au 0
 5 62 03 78 73.\n\nPour plus d'information, aller sur https://epanews.f
 r/events/weekend-biodanza
DTSTART;TZID=Europe/Paris:20101120T143000
DTEND;TZID=Europe/Paris:20101121T170000
CATEGORIES:65
LOCATION:Maison d'hÃ´tes NamastÃ©
WEBSITE:http://www.namaste-pyrenees.com
URL:http://www.namaste-pyrenees.com
CONTACT:05 62 03 78 73
ORGANIZER:GÃ©rard
ATTACH;FMTTYPE="image/jpeg":http://storage.ning.com/topology/rest/1.0/
 file/get/1662351846?profile=original
ATTENDEE;ROLE=REQ-PARTICIPANT;PARTSTAT=ACCEPTED;RSVP=TRUE;CN="Isabelle
  Schwaar":https://epanews.fr/profile/IsabelleSchwaar
END:VEVENT
END:VCALENDAR
