BEGIN:VCALENDAR
PRODID:NingEventWidget-v1
VERSION:2.0
METHOD:PUBLISH
BEGIN:VTIMEZONE
TZID:Europe/Paris
X-LIC-LOCATION:Europe/Paris
BEGIN:DAYLIGHT
TZOFFSETFROM:+0100
TZOFFSETTO:+0200
TZNAME:CEST
DTSTART:19700329T020000
RRULE:FREQ=YEARLY;BYMONTH=3;BYDAY=-1SU
END:DAYLIGHT
BEGIN:STANDARD
TZOFFSETFROM:+0200
TZOFFSETTO:+0100
TZNAME:CET
DTSTART:19701025T030000
RRULE:FREQ=YEARLY;BYMONTH=10;BYDAY=-1SU
END:STANDARD
END:VTIMEZONE
BEGIN:VEVENT
UID:2485226:Event:672510
DTSTAMP:20260423T190450Z
SUMMARY:Week-end \"se libérer de ses peurs\" / Constellations Familia
 les 
DESCRIPTION:sur le thème de la libération des peurs un week-end anim
 é par Alexandra Caymmi\n Alexandra Caymmi est Psychothérapeute, fond
 atrice de la Thérapie Systémique Phénoménologique Intégrative et 
 amatrice de danse. Dans la TSPI, elle utilise les placements énergét
 iques, le son, ainsi que des passes chamaniques.\nBrochure par mail su
 r demande\n\nPour plus d'information, aller sur https://epanews.fr/eve
 nts/week-end-se-lib-rer-de-ses-peurs-constellations-familiales
DTSTART;TZID=Europe/Paris:20120211T000000
DTEND;TZID=Europe/Paris:20120212T235900
CATEGORIES:75
LOCATION:Paris
WEBSITE:
URL:
CONTACT:0140475108
ORGANIZER;CN="Laure Bo":https://epanews.fr/profile/LaurenceBoue
ATTACH;FMTTYPE="image/jpeg":
ATTENDEE;ROLE=REQ-PARTICIPANT;PARTSTAT=ACCEPTED;RSVP=TRUE;CN="Laure Bo
 ":https://epanews.fr/profile/LaurenceBoue
END:VEVENT
END:VCALENDAR
