BEGIN:VCALENDAR
PRODID:NingEventWidget-v1
VERSION:2.0
METHOD:PUBLISH
BEGIN:VTIMEZONE
TZID:Europe/Paris
X-LIC-LOCATION:Europe/Paris
BEGIN:DAYLIGHT
TZOFFSETFROM:+0100
TZOFFSETTO:+0200
TZNAME:CEST
DTSTART:19700329T020000
RRULE:FREQ=YEARLY;BYMONTH=3;BYDAY=-1SU
END:DAYLIGHT
BEGIN:STANDARD
TZOFFSETFROM:+0200
TZOFFSETTO:+0100
TZNAME:CET
DTSTART:19701025T030000
RRULE:FREQ=YEARLY;BYMONTH=10;BYDAY=-1SU
END:STANDARD
END:VTIMEZONE
BEGIN:VEVENT
UID:2485226:Event:2675660
DTSTAMP:20260421T143337Z
SUMMARY:Week-end ouverture des sens
DESCRIPTION: L'art de la rencontre énergétique, en maison d'hôte e
 t en Île-de-France Ressourcez votre corps, votre esprit et votre cré
 ativité dans le cadre d'un hébergement résidentiel à \"La Résiden
 ce d'Art\" à Joinville-le-Pont, du 12 au 15 août. Votre accueil se f
 era à partir de 15h le 12 août 2016 à la Résidence d'Art. Le débu
 t de la session est prévu à 17h le vendredi 12. Les journées entiè
 res débuteront à 9h pour se terminer à 23h. Des moments de pause et
  de repas sont prévus à plusieurs moments de la journée de travail.
  Le nombre de places est limité à 10. La session se terminera le mat
 in du lundi 15 août. Vous aurez comme programme :- de la méditation 
 active, des exercices sur les modes d'expression - du temps de parole
  partagée, - des massages, - des thérapies psycho-corporelles. Le tr
 avail en commun portera sur l’échange, le partage, l’écoute, la 
 méditation en groupe, le mouvement initié ensemble, l’énergétiqu
 e, le massage, la créativité. Nous serons réunis autour d'un travai
 l sur soi, dans la nudité corporelle pour faciliter le contact et la 
 rencontre avec soi comme avec les autres. Tout questionnement d’homm
 e sera abordé librement et sans jugement de la part de chacun. Ce ser
 a une rencontre ciblée autour du toucher, du contact et du partage, a
 vec des échanges, de l'écoute et de la bienveillance. Le temps d’u
 ne respiration profitez des plaisirs du partage dans un lieu paisible 
 vert et accueillant. C'est une découverte dans le respect de soi et d
 e chacun. L'animateur est Alexis. Un seul téléphone, pour que vous s
 oyez informé de plus de détails et des tarifs, ainsi que pour réser
 ver votre place \n\nPour plus d'information, aller sur https://epanews
 .fr/events/week-end-ouverture-des-sens
DTSTART;TZID=Europe/Paris:20160812T124500
DTEND;TZID=Europe/Paris:20160815T090000
CATEGORIES:94
LOCATION:joinville le pont
WEBSITE:http://www.residencedart.blogspot.com
URL:http://www.residencedart.blogspot.com
CONTACT:0608989284
ORGANIZER;CN=Alexis:https://epanews.fr/profile/Alexis
ATTACH;FMTTYPE="image/jpeg":
ATTENDEE;ROLE=REQ-PARTICIPANT;PARTSTAT=ACCEPTED;RSVP=TRUE;CN=Alexis:ht
 tps://epanews.fr/profile/Alexis
END:VEVENT
END:VCALENDAR
