BEGIN:VCALENDAR
PRODID:NingEventWidget-v1
VERSION:2.0
METHOD:PUBLISH
BEGIN:VTIMEZONE
TZID:Europe/Paris
X-LIC-LOCATION:Europe/Paris
BEGIN:DAYLIGHT
TZOFFSETFROM:+0100
TZOFFSETTO:+0200
TZNAME:CEST
DTSTART:19700329T020000
RRULE:FREQ=YEARLY;BYMONTH=3;BYDAY=-1SU
END:DAYLIGHT
BEGIN:STANDARD
TZOFFSETFROM:+0200
TZOFFSETTO:+0100
TZNAME:CET
DTSTART:19701025T030000
RRULE:FREQ=YEARLY;BYMONTH=10;BYDAY=-1SU
END:STANDARD
END:VTIMEZONE
BEGIN:VEVENT
UID:2485226:Event:2303917
DTSTAMP:20260422T225529Z
SUMMARY:Week-End Mieux-Etre - Retraite Holistique
DESCRIPTION:\nVenez vivre une expérience d'exception pendant 3 jours,
  près de Nîmes. Donnez vous du temps pour VOUS, lors de notre week-e
 nd holistique et prenez soin de votre Corps et de votre Esprit.  \nB
 énéficiez de plusieurs soins de guérisons, d'un accompagnement et d
 'une variété de pratiques, le tout effectué par des professionnels 
 du développement personnel, de l'énergie et de la thérapie. Profite
 z de tout ceci dans un cadre privatif, intimiste (8 participants maxim
 um) et dédié à votre propre bien être. \n    Notre séjour 3 j
 ours / 2 nuits est en formule TOUT COMPRIS, c'est à dire, hébergemen
 t, repas végétariens, collations, ainsi que tous les soins prévus a
 u programme (séances individuelles, de groupe, exercice pratiques, et
 c..)  \nMassage, énergie, coaching, tout est dédié pour vous fourn
 ir un mieux être physique, psychologique ou émotionnel, avec des out
 ils concrets pour l'après séjour. Venez faire ce premier pas vers vo
 tre mieux être, et trouver des clés pour être heureux.\nN'hésitez 
 plus et bénéficiez de notre tarif réduit pour toute réservation ef
 fectuée avant le 12 mai 2015 !\n\nPour plus d'information, aller sur
  https://epanews.fr/events/week-end-mieux-etre-retraite-holistique
DTSTART;TZID=Europe/Paris:20150612T160000
DTEND;TZID=Europe/Paris:20150614T130000
CATEGORIES:30
LOCATION:Près de Montpellier, Nîmes
WEBSITE:http://www.lotusvillage.org/#!weekend-juin-15/c21qt
URL:http://www.lotusvillage.org/#!weekend-juin-15/c21qt
CONTACT:
ORGANIZER;CN="Lucas - Lotus Village":https://epanews.fr/profile/LucasL
 otusVillage
ATTACH;FMTTYPE="image/jpeg":http://storage.ning.com/topology/rest/1.0/
 file/get/1663380966?profile=original
ATTENDEE;ROLE=REQ-PARTICIPANT;PARTSTAT=ACCEPTED;RSVP=TRUE;CN="Lucas - 
 Lotus Village":https://epanews.fr/profile/LucasLotusVillage
END:VEVENT
END:VCALENDAR
