BEGIN:VCALENDAR
PRODID:NingEventWidget-v1
VERSION:2.0
METHOD:PUBLISH
BEGIN:VTIMEZONE
TZID:Europe/Paris
X-LIC-LOCATION:Europe/Paris
BEGIN:DAYLIGHT
TZOFFSETFROM:+0100
TZOFFSETTO:+0200
TZNAME:CEST
DTSTART:19700329T020000
RRULE:FREQ=YEARLY;BYMONTH=3;BYDAY=-1SU
END:DAYLIGHT
BEGIN:STANDARD
TZOFFSETFROM:+0200
TZOFFSETTO:+0100
TZNAME:CET
DTSTART:19701025T030000
RRULE:FREQ=YEARLY;BYMONTH=10;BYDAY=-1SU
END:STANDARD
END:VTIMEZONE
BEGIN:VEVENT
UID:2485226:Event:2630460
DTSTAMP:20260423T054505Z
SUMMARY:Week-end Massage Sensitif
DESCRIPTION:Venez découvrir le Massage Sensitif, une méthode particu
 lière qui s'adapte à la personne.Le Massage Sensitif peut être véc
 u, comme un art de communiquer, une forme de dialogue non-verbal, une 
 relation d'aide par le Toucher, comme un temps pour prendre soin de so
 i, de l'autre... Vous pourrez à tour de rôle, expérimenter l'écout
 e bienveillante, des temps de discussions (non-verbaux) centrés sur v
 ous.\n\nPour plus d'information, aller sur https://epanews.fr/events/w
 eek-end-massage-sensitif
DTSTART;TZID=Europe/Paris:20160430T100000
DTEND;TZID=Europe/Paris:20160501T180000
CATEGORIES:07
LOCATION:Mas Channac
WEBSITE:http://www.etre-en-chemin.com
URL:http://www.etre-en-chemin.com
CONTACT:06 86 98 37 66
ORGANIZER;CN=Bob:https://epanews.fr/profile/RobertCP
ATTACH;FMTTYPE="image/jpeg":http://storage.ning.com/topology/rest/1.0/
 file/get/1663553986?profile=original
ATTENDEE;ROLE=REQ-PARTICIPANT;PARTSTAT=ACCEPTED;RSVP=TRUE;CN=Bob:https
 ://epanews.fr/profile/RobertCP
END:VEVENT
END:VCALENDAR
