BEGIN:VCALENDAR
PRODID:NingEventWidget-v1
VERSION:2.0
METHOD:PUBLISH
BEGIN:VTIMEZONE
TZID:Europe/Paris
X-LIC-LOCATION:Europe/Paris
BEGIN:DAYLIGHT
TZOFFSETFROM:+0100
TZOFFSETTO:+0200
TZNAME:CEST
DTSTART:19700329T020000
RRULE:FREQ=YEARLY;BYMONTH=3;BYDAY=-1SU
END:DAYLIGHT
BEGIN:STANDARD
TZOFFSETFROM:+0200
TZOFFSETTO:+0100
TZNAME:CET
DTSTART:19701025T030000
RRULE:FREQ=YEARLY;BYMONTH=10;BYDAY=-1SU
END:STANDARD
END:VTIMEZONE
BEGIN:VEVENT
UID:2485226:Event:950226
DTSTAMP:20260421T100431Z
SUMMARY:Plaisir du massage intuitif et créatif
DESCRIPTION:Plaisir du massage intuitif et créatif\nA grenoble\nA cot
 e du cafe des arts, 34 rue saint-laurent\n \nProgramme 2013 :\nUn sa
 medi par mois de 9 h à 18 h\n   04/05; 29/06\n \nPrix : 60€/jou
 r. Réduction étudiants, petits revenus et si engagement annuel ou tr
 imestriel.\n La valeur fondamentale d'un massage dépend surtout des 
  qualités de la relation qui se crée entre les personnes: présence
  à soi et à l'autre, ancrage, clarté de l'intention, écoute, atten
 tion, réceptivité, respect,  confiance et  lâcher-prise.\nLes con
 naissances techniques nécessaires se mettent au service de cette rela
 tion.\nDans ce contexte,  nous expérimenterons :\n\nLe massage « 
 californien »\nLa relaxation coréenne (massage par les vibrations)\
 nL’intégration de ces pratiques dans le massage intuitif et créati
 f.\n\n Animateur : Bernard Molliex  Thérapeute psychocorporel\n N
 ° Siret : 410 982 680 00028.\nContact : 06 13 29 21 29 – 04 79 32
  38 61.\nSite : http://www.therapeute-psychocorporel-albertville-gren
 oble.com                     \n \n \n\nPour plu
 s d'information, aller sur https://epanews.fr/events/week-end-massage-
 die
DTSTART;TZID=Europe/Paris:20130504T000000
DTEND;TZID=Europe/Paris:20130504T235900
CATEGORIES:38
LOCATION:Grenoble
WEBSITE:http://www.therapeute-psychocorporel-albertville-grenoble.com/
 fr
URL:http://www.therapeute-psychocorporel-albertville-grenoble.com/fr
CONTACT:06 13 29 21 29    04 79 32 38 61
ORGANIZER;CN="Molliex Bernard":https://epanews.fr/profile/MolliexBerna
 rd
ATTACH;FMTTYPE="image/jpeg":http://storage.ning.com/topology/rest/1.0/
 file/get/1662774451?profile=original
ATTENDEE;ROLE=REQ-PARTICIPANT;PARTSTAT=ACCEPTED;RSVP=TRUE;CN="Molliex 
 Bernard":https://epanews.fr/profile/MolliexBernard
END:VEVENT
END:VCALENDAR
