BEGIN:VCALENDAR
PRODID:NingEventWidget-v1
VERSION:2.0
METHOD:PUBLISH
BEGIN:VTIMEZONE
TZID:Europe/Paris
X-LIC-LOCATION:Europe/Paris
BEGIN:DAYLIGHT
TZOFFSETFROM:+0100
TZOFFSETTO:+0200
TZNAME:CEST
DTSTART:19700329T020000
RRULE:FREQ=YEARLY;BYMONTH=3;BYDAY=-1SU
END:DAYLIGHT
BEGIN:STANDARD
TZOFFSETFROM:+0200
TZOFFSETTO:+0100
TZNAME:CET
DTSTART:19701025T030000
RRULE:FREQ=YEARLY;BYMONTH=10;BYDAY=-1SU
END:STANDARD
END:VTIMEZONE
BEGIN:VEVENT
UID:2485226:Event:2326962
DTSTAMP:20260422T074737Z
SUMMARY:week-end MÃ¨re Nature
DESCRIPTION:Stage d'initiation au dialogue avec, la Nature et de cÃ©lÃ
 ©bration de la vie, pour le FÃªte des MÃ¨re cÃ©lÃ©brons le principe de
  la grande MÃ¨re sur des lieux magiques et sacrÃ©s Ã  dÃ©couvrir oÃ¹ e
 lle exprime toute sa connaissance et sa prÃ©sence bienveillante!\n\nPo
 ur plus d'information, aller sur https://epanews.fr/events/week-end-m-
 re-nature
DTSTART;TZID=Europe/Paris:20150530T091500
DTEND;TZID=Europe/Paris:20150531T170000
CATEGORIES:04
LOCATION:Boulinette et vachÃ¨res
WEBSITE:http://www.chandrika.fr
URL:http://www.chandrika.fr
CONTACT:0648809747
ORGANIZER;CN="isabelle Rose":https://epanews.fr/profile/isabelleRose
ATTACH;FMTTYPE="image/jpeg":http://storage.ning.com/topology/rest/1.0/
 file/get/1663399372?profile=original
ATTENDEE;ROLE=REQ-PARTICIPANT;PARTSTAT=ACCEPTED;RSVP=TRUE;CN="isabelle
  Rose":https://epanews.fr/profile/isabelleRose
END:VEVENT
END:VCALENDAR
