BEGIN:VCALENDAR
PRODID:NingEventWidget-v1
VERSION:2.0
METHOD:PUBLISH
BEGIN:VTIMEZONE
TZID:Europe/Paris
X-LIC-LOCATION:Europe/Paris
BEGIN:DAYLIGHT
TZOFFSETFROM:+0100
TZOFFSETTO:+0200
TZNAME:CEST
DTSTART:19700329T020000
RRULE:FREQ=YEARLY;BYMONTH=3;BYDAY=-1SU
END:DAYLIGHT
BEGIN:STANDARD
TZOFFSETFROM:+0200
TZOFFSETTO:+0100
TZNAME:CET
DTSTART:19701025T030000
RRULE:FREQ=YEARLY;BYMONTH=10;BYDAY=-1SU
END:STANDARD
END:VTIMEZONE
BEGIN:VEVENT
UID:2485226:Event:2675662
DTSTAMP:20260422T164911Z
SUMMARY:Week-end hommes
DESCRIPTION:Â L'art de la rencontre Ã©nergÃ©tique au masculin, en mais
 on d'hÃ´te et en ÃŽle-de-France Ressourcez votre corps, votre esprit e
 t votre crÃ©ativitÃ© dans le cadre d'un hÃ©bergement rÃ©sidentiel Ã  \
 "La RÃ©sidence d'Art\" Ã  Joinville-le-Pont, du 29 au 31 juillet inclu
 s. Votre accueil se fera Ã  partir de 15h le 29 juillet 2016 Ã  la RÃ©
 sidence d'Art. Le dÃ©but de la session est prÃ©vu Ã  17h le vendredi 2
 9. Les journÃ©es entiÃ¨res dÃ©buteront Ã  9h pour se terminer Ã  23h. 
 Des moments de pause et de repas sont prÃ©vus Ã  plusieurs moments de 
 la journÃ©e de travail. Le nombre de places est limitÃ© Ã  10. La sess
 ion se terminera le matin du lundi 1er aoÃ»t. Vous aurez comme program
 me :des exercices de communication partagÃ©e et d'Ã©changesÂ - de la m
 Ã©ditation active, - du temps de parole partagÃ©e, - des massages, - d
 es thÃ©rapies psycho-corporelles. Le travail en commun portera sur lâ€
 ™Ã©change, le partage, l'intime et le sensible, lâ€™Ã©coute, la mÃ©dit
 ation en groupe, le mouvement initiÃ© ensemble, lâ€™Ã©nergÃ©tique, le 
 massage, la crÃ©ativitÃ© et les moments de parole pour Ã©voquer la vie
  intÃ©rieure de l'homme.Â Nous serons rÃ©unis autour d'un travail sur 
 soi, dans la nuditÃ© corporelleÂ qui facilite et permet d'avantageÂ le
  contact et la rencontre avec soi comme avec les autres. Tout question
 nement dâ€™homme sera abordÃ© librement et sans jugement de la part de
  chacun. Ce sera une rencontre ciblÃ©e autour du partage, avec des Ã©c
 hanges, de l'Ã©coute et de la bienveillance. Le temps dâ€™une respirat
 ion profitez des plaisirsÂ ensemble dans un lieu paisible vert et accu
 eillant. C'est une dÃ©couverte dans le respect de soi et de chacun. L'
 animateur est Alexis,. Dany assurera partiellement l'animation des mÃ©
 ditations actives et des massages, plus diverses options Ã©ventuelles.
  Un seul tÃ©lÃ©phone, pour que vous soyez informÃ© de plus de dÃ©tails
  et des tarifs, ainsi que pour rÃ©server votre place\n\nPour plus d'in
 formation, aller sur https://epanews.fr/events/week-end-hommes
DTSTART;TZID=Europe/Paris:20160729T120000
DTEND;TZID=Europe/Paris:20160801T090000
CATEGORIES:94
LOCATION:joinville le pont
WEBSITE:http://www.residencedart.blogspot.com
URL:http://www.residencedart.blogspot.com
CONTACT:0608989284
ORGANIZER;CN=Alexis:https://epanews.fr/profile/Alexis
ATTACH;FMTTYPE="image/jpeg":
ATTENDEE;ROLE=REQ-PARTICIPANT;PARTSTAT=ACCEPTED;RSVP=TRUE;CN=Alexis:ht
 tps://epanews.fr/profile/Alexis
END:VEVENT
END:VCALENDAR
