BEGIN:VCALENDAR
PRODID:NingEventWidget-v1
VERSION:2.0
METHOD:PUBLISH
BEGIN:VTIMEZONE
TZID:Europe/Paris
X-LIC-LOCATION:Europe/Paris
BEGIN:DAYLIGHT
TZOFFSETFROM:+0100
TZOFFSETTO:+0200
TZNAME:CEST
DTSTART:19700329T020000
RRULE:FREQ=YEARLY;BYMONTH=3;BYDAY=-1SU
END:DAYLIGHT
BEGIN:STANDARD
TZOFFSETFROM:+0200
TZOFFSETTO:+0100
TZNAME:CET
DTSTART:19701025T030000
RRULE:FREQ=YEARLY;BYMONTH=10;BYDAY=-1SU
END:STANDARD
END:VTIMEZONE
BEGIN:VEVENT
UID:2485226:Event:1025579
DTSTAMP:20260423T104515Z
SUMMARY:week-end gÃ®te en luberon
DESCRIPTION:Â Promenades pÃ©destres\nÂ Soins divers Ã©nergÃ©tiques\nÂ 
 Cercle de parole, Ã©change dâ€™idÃ©es et de compÃ©tences\nÂ Tirage de 
 cartes\nÂ NumÃ©rologie\nÂ Visionnage de films\nSituÃ© tout prÃªt de Va
 chÃ¨res, et du non moins connu village dâ€™Oppedette, câ€™est dans ce 
 beau coin du haut LubÃ©ron,Â  sauvage, entourÃ© deÂ  trÃ¨s grandes for
 Ãªts de chÃªnes que nous vous proposons de nous retrouver.\nLe gÃ®te L
 e Tuillier, tout confort, nous reÃ§oit dans un environnement de vieill
 e bastide rÃ©novÃ©e toute en pierres, avec trois appartements de 4 Ã  
 6 personnes, des chambres toutes Ã©quipÃ©es de lit en 140.\nChacun amÃ
 ¨ne ses repas, si possible du bio ou du prÃ©parÃ© maison car nous mett
 ons la nourriture en commun aux repas et au petit dÃ©jeuner.\nDÃ©partÂ
   de St Cyr sur Mer Ã  8h00 le samedi 1er dÃ©cembre\nÂ et de Pertuis Ã
   9h30 (pour les aixois et marseillais).\nCovoiturage possible et reco
 mmandÃ©, nous vous mettons en rapport suite Ã  Â vos propositions et d
 emandes.\nRÃ©servation nÃ©cessaire pour la participation aux frais.\nP
 ossibilitÃ© de rÃ©server le lit en 140 individuellement par paiement d
 e deux places.\n\nPour plus d'information, aller sur https://epanews.f
 r/events/week-end-g-te-en-luberon
DTSTART;TZID=Europe/Paris:20121201T080000
DTEND;TZID=Europe/Paris:20121202T180000
CATEGORIES:05
LOCATION:LUBERON
WEBSITE:
URL:
CONTACT:0660463092
ORGANIZER;CN=danielstcyrsurmer:https://epanews.fr/profile/danielstcyrs
 urmer
ATTACH;FMTTYPE="image/jpeg":http://storage.ning.com/topology/rest/1.0/
 file/get/1662698575?profile=original
ATTENDEE;ROLE=REQ-PARTICIPANT;PARTSTAT=ACCEPTED;RSVP=TRUE;CN="Ghyslain
 e Sanchez":https://epanews.fr/profile/GhyslaineSanchez
ATTENDEE;ROLE=REQ-PARTICIPANT;PARTSTAT=ACCEPTED;RSVP=TRUE;CN=fito:http
 s://epanews.fr/profile/fito
ATTENDEE;ROLE=REQ-PARTICIPANT;PARTSTAT=ACCEPTED;RSVP=TRUE;CN=danielstc
 yrsurmer:https://epanews.fr/profile/danielstcyrsurmer
ATTENDEE;ROLE=REQ-PARTICIPANT;PARTSTAT=TENTATIVE;RSVP=TRUE;CN=MARINA:h
 ttps://epanews.fr/profile/BOCQUET
ATTENDEE;ROLE=REQ-PARTICIPANT;PARTSTAT=TENTATIVE;RSVP=TRUE;CN=drinette
 :https://epanews.fr/profile/drinette
END:VEVENT
END:VCALENDAR
