BEGIN:VCALENDAR
PRODID:NingEventWidget-v1
VERSION:2.0
METHOD:PUBLISH
BEGIN:VTIMEZONE
TZID:Europe/Paris
X-LIC-LOCATION:Europe/Paris
BEGIN:DAYLIGHT
TZOFFSETFROM:+0100
TZOFFSETTO:+0200
TZNAME:CEST
DTSTART:19700329T020000
RRULE:FREQ=YEARLY;BYMONTH=3;BYDAY=-1SU
END:DAYLIGHT
BEGIN:STANDARD
TZOFFSETFROM:+0200
TZOFFSETTO:+0100
TZNAME:CET
DTSTART:19701025T030000
RRULE:FREQ=YEARLY;BYMONTH=10;BYDAY=-1SU
END:STANDARD
END:VTIMEZONE
BEGIN:VEVENT
UID:2485226:Event:328606
DTSTAMP:20260423T063830Z
SUMMARY:Week end découverte de l'Ayurveda en Bretagne
DESCRIPTION:Chantal, Michel et Aurélie vous accueillent dans un cadre
  verdoyant et calme, lors d'un week end dédié à l'Ayurveda pour dé
 couvrir ensemble, entre amis ou en famille, cette science de vie et de
  longévité.\nProgramme :\nVotre constitution ayurvédique, conseils 
 et hygiène de vie, atelier de cuisine, initiation au massage traditio
 nnel, méditation, yoga nidra, soirée indienne.\nParticipation  (ani
 mation + demi-pension) :\n250 par personne / 400 par couple\nwww.tradi
 tion-ayurveda.fr\n\n\nPour plus d'information, aller sur https://epane
 ws.fr/events/week-end-decouverte-de
DTSTART;TZID=Europe/Paris:20110701T100000
DTEND;TZID=Europe/Paris:20110703T170000
CATEGORIES:35
LOCATION:Rennes
WEBSITE:http://www.tradition-ayurveda.fr
URL:http://www.tradition-ayurveda.fr
CONTACT:0614190195 
ORGANIZER;CN=CROS:https://epanews.fr/profile/CROS
ATTACH;FMTTYPE="image/jpeg":http://storage.ning.com/topology/rest/1.0/
 file/get/1662423922?profile=original
ATTENDEE;ROLE=REQ-PARTICIPANT;PARTSTAT=ACCEPTED;RSVP=TRUE;CN=CROS:http
 s://epanews.fr/profile/CROS
END:VEVENT
END:VCALENDAR
