BEGIN:VCALENDAR
PRODID:NingEventWidget-v1
VERSION:2.0
METHOD:PUBLISH
BEGIN:VTIMEZONE
TZID:Europe/Paris
X-LIC-LOCATION:Europe/Paris
BEGIN:DAYLIGHT
TZOFFSETFROM:+0100
TZOFFSETTO:+0200
TZNAME:CEST
DTSTART:19700329T020000
RRULE:FREQ=YEARLY;BYMONTH=3;BYDAY=-1SU
END:DAYLIGHT
BEGIN:STANDARD
TZOFFSETFROM:+0200
TZOFFSETTO:+0100
TZNAME:CET
DTSTART:19701025T030000
RRULE:FREQ=YEARLY;BYMONTH=10;BYDAY=-1SU
END:STANDARD
END:VTIMEZONE
BEGIN:VEVENT
UID:2485226:Event:745279
DTSTAMP:20260422T035800Z
SUMMARY:Week-end - DÃ©velopper Votre Intuition et Votre Ressenti
DESCRIPTION:DÃ©roulement du stage Â AprÃ¨s un apport dâ€™Ã©lÃ©ments th
 Ã©oriques indispensables pour comprendre comme fonctionne lâ€™intuitio
 n, vous allez expÃ©rimenter et intÃ©grer plus de 10 outils/techniques/
 mÃ©thodes que jâ€™utilise dans mon quotidien pour dÃ©velopper lâ€™intu
 ition. Â Dans un groupe de maximum 10 personnes, dans une ambiance con
 viviale et respectueuse, le but de ce stage est de sentir dans votre c
 orps la manifestation de lâ€™intuition et de comprendre comment crÃ©er
  les conditions pour cela. Â Chacun dÃ©veloppe son intuition et son re
 ssenti Ã  son rythme et profite de lâ€™Ã©nergie du groupe. Â Objectifs
  Â Â ExpÃ©rimenter des techniques, les vivre au cÅ“ur de son Ãªtre afi
 n dâ€™accroÃ®tre votre potentiel intuitif, votre autonomie et votre re
 ssenti personnel, favoriser des choix clairs dans vos actions et ainsi
  dÃ©cider efficacement de votre futur. Â Les Techniques Â Â Pour trava
 iller sur le ressenti et lâ€™intuition, vous allez utiliser des outils
  concrets, pratiques et Ã©prouvÃ©s qui permettent Ã  chacun dâ€™Ã©volu
 er tout au long de ce week-end, voici une liste non exhaustive des out
 ils que je propose :\nFalun Dafa Une mÃ©thode ancestrale de Qi-gong si
 mple et efficace pour dÃ©velopper son ressenti, calmer le mental et sâ
 €™ouvrir aux Ã©nergies. Â Respiration avec les arbres Une technique de
  ressenti utilisant lâ€™Ã©nergie des arbres. Â La co-crÃ©ation De la p
 hysique quantique Ã  la neurobiologie, comment comprendre et changer s
 a rÃ©alitÃ© simplement et immÃ©diatement. Â Gestion des pensÃ©es Les p
 rincipes de bases permettant dâ€™amÃ©liorer considÃ©rablement le fonct
 ionnement du mental. Â ExpÃ©rimentation dâ€™outils de coaching de vie 
 Exercices simples et efficaces pour prendre conscience de son fonction
 nement et passer Ã  lâ€™action dans sa vie. Â Les sons guÃ©risseurs So
 ns utilisÃ©s par les tibÃ©tains pour rÃ©harmoniser la frÃ©quence nos c
 ellules. Â Les principes de base de la diÃ©tÃ©tique du Tao Un atelier 
 de cuisine au wok pour comprendre la synergie des aliments etson rÃ´le
  bÃ©nÃ©fique pour le corps.\nIntuition & Ressenti MÃ©thodes dâ€™Autono
 mie et de RÃ©alisation de lâ€™ÃŠtre Â lâ€™EFT (Emotionel Freedom Techn
 ique) & PBA (Psycho-bio acupressure) Deux formidables outils de gestio
 n des Ã©motions et des mÃ©moires Dâ€™autres outils vous seront proposÃ
 ©s au grÃ© de nos discussionsâ€¦\nÂ Le stage se dÃ©roulera en immersio
 n complÃ¨te pour ressentir lâ€™Ã©nergie du groupe. Le lieu du stage se
  situe dans un cadre calme, verdoyant dans les Vosges Alsacienne, au p
 ied du Taennchel, endroit idÃ©al pour se ressourcer et se reconnecter 
 aux Ã©nergies de la nature et Ã  votre Ã©nergie. Â RÃ©servez dÃ¨s main
 tenant, le nombre de participants est limitÃ© Ã  10 personnes. Dâ€™aut
 res stages seront prÃ©vus en automne 2012.\nTarifs et HÃ©bergement Â P
 articipation au stage : 220 euros. HÃ©bergement pour le WE : 50â‚¬ Les
  repas seront prÃ©parÃ©s ensemble, une cuisine Ã©quipÃ©e sera Ã  notre
  disposition. Apporter ce dont vous avez besoin et ce que vous voulez 
 partager pour le WE. Â Je proposerai un atelier de cuisine du tao au w
 ok. Â \n\nPour plus d'information, aller sur https://epanews.fr/events
 /week-end-d-velopper-votre-intuition-et-votre-ressenti-1
DTSTART;TZID=Europe/Paris:20120707T220000
DTEND;TZID=Europe/Paris:20120708T170000
CATEGORIES:67
LOCATION:Thannenkirch / COLMAR
WEBSITE:http://coaching-unity.weebly.com
URL:http://coaching-unity.weebly.com
CONTACT:0952677615
ORGANIZER;CN="JACQUET Fabien":https://epanews.fr/profile/JACQUETFabien
ATTACH;FMTTYPE="image/jpeg":
ATTENDEE;ROLE=REQ-PARTICIPANT;PARTSTAT=ACCEPTED;RSVP=TRUE;CN="JACQUET 
 Fabien":https://epanews.fr/profile/JACQUETFabien
END:VEVENT
END:VCALENDAR
