BEGIN:VCALENDAR
PRODID:NingEventWidget-v1
VERSION:2.0
METHOD:PUBLISH
BEGIN:VTIMEZONE
TZID:Europe/Paris
X-LIC-LOCATION:Europe/Paris
BEGIN:DAYLIGHT
TZOFFSETFROM:+0100
TZOFFSETTO:+0200
TZNAME:CEST
DTSTART:19700329T020000
RRULE:FREQ=YEARLY;BYMONTH=3;BYDAY=-1SU
END:DAYLIGHT
BEGIN:STANDARD
TZOFFSETFROM:+0200
TZOFFSETTO:+0100
TZNAME:CET
DTSTART:19701025T030000
RRULE:FREQ=YEARLY;BYMONTH=10;BYDAY=-1SU
END:STANDARD
END:VTIMEZONE
BEGIN:VEVENT
UID:2485226:Event:1937420
DTSTAMP:20260421T171644Z
SUMMARY:web conférence-Le masculin sacré au service du féminin sacr
 é et de sa mission
DESCRIPTION:WEB CONFÉRENCE\n17 juin 2014 à 15h15 au Québec et à 21
 h15 à Paris\nLe masculin sacré au service du féminin sacré et de s
 a mission \nSylvie Bérubé nous guidera à découvrir le rôle et l
 a mission de notre blessure fondamentale, celle qui nous atteint au c
 ur de notre cœur.\nSylvie Bérubé, créatrice de l’École Interna
 tionale du Féminin Sacré, vous invite à découvrir comment unir vos
  deux polarisés, féminine et masculine, pour vous aligner sur la vo
 ie de votre mission. Lorsque le Masculin Sacré entend l’appel du F
 éminin Sacré et y répond en utilisant ses grands pouvoirs masculin
 s, il est alors possible de retrouver sa passion de vivre et sa créa
 tivité.\nCette conférence est animée par Sylvie Bérubé avec Conve
 rsation Papillon. Cette conférence est gratuite si elle est écoutée
  en direct. Il y a possibilité de l’écouter en différé si vous 
 tes “Membre Privilège” de Conversation Papillon.\nPour assister 
 à cette web conférence, suivre le lien suivant:\nhttp://www.sylvielu
 naberube.conversationpapillon.com\n\nPour plus d'information, aller su
 r https://epanews.fr/events/web-conf-rence-le-masculin-sacr-au-service
 -du-f-minin-sacr-et-de
DTSTART;TZID=Europe/Paris:20140617T211500
DTEND;TZID=Europe/Paris:20140617T230000
CATEGORIES:sur, le, web
LOCATION:sur le web
WEBSITE:http://www.sylvielunaberube.conversationpapillon.com
URL:http://www.sylvielunaberube.conversationpapillon.com
CONTACT:
ORGANIZER;CN="Sylvie Bérubé (Lüna)":https://epanews.fr/profile/Sylv
 ieBerubeLuena
ATTACH;FMTTYPE="image/jpeg":http://storage.ning.com/topology/rest/1.0/
 file/get/1663150990?profile=original
ATTENDEE;ROLE=REQ-PARTICIPANT;PARTSTAT=ACCEPTED;RSVP=TRUE;CN="Sylvie B
 érubé (Lüna)":https://epanews.fr/profile/SylvieBerubeLuena
END:VEVENT
END:VCALENDAR
