BEGIN:VCALENDAR
PRODID:NingEventWidget-v1
VERSION:2.0
METHOD:PUBLISH
BEGIN:VTIMEZONE
TZID:Europe/Paris
X-LIC-LOCATION:Europe/Paris
BEGIN:DAYLIGHT
TZOFFSETFROM:+0100
TZOFFSETTO:+0200
TZNAME:CEST
DTSTART:19700329T020000
RRULE:FREQ=YEARLY;BYMONTH=3;BYDAY=-1SU
END:DAYLIGHT
BEGIN:STANDARD
TZOFFSETFROM:+0200
TZOFFSETTO:+0100
TZNAME:CET
DTSTART:19701025T030000
RRULE:FREQ=YEARLY;BYMONTH=10;BYDAY=-1SU
END:STANDARD
END:VTIMEZONE
BEGIN:VEVENT
UID:2485226:Event:2029964
DTSTAMP:20260421T172636Z
SUMMARY:Web confÃ©rence-Lâ€™appel de la chamane\guÃ©risseuse au coeur 
 de son corps
DESCRIPTION:CONFÃ‰RENCES SUR LE WEB\nThÃ©matique des confÃ©rences de l
 â€™automne 2014 animÃ©es par Sylvie LÃ¼na BÃ©rubÃ© Â avecÂ Conversatio
 n Papillon\nLâ€™APPEL DU COEUR DU FÃ‰MININ SACRÃ‰Â \n30 septembre 2014
 Â -\nLâ€™APPEL DE LA CHAMANE / GUÃ‰RISSEUSE AU COEUR DE SONÂ CORPSÂ \n
 ConfÃ©rence pour Ã©veiller la dimension guÃ©risseuse du FÃ©minin SacrÃ
 ©, la chamane / guÃ©risseuse au coeur de sonÂ corps\nHeure:Â Â 14h00 (
  heure du QuÃ©bec ) Â ou 20h00 ( heure de Paris )\n\nPour plus d'infor
 mation, aller sur https://epanews.fr/events/web-conf-rence-l-appel-de-
 la-chamane-gu-risseuse-au-coeur-de-son
DTSTART;TZID=Europe/Paris:20140930T200000
DTEND;TZID=Europe/Paris:20140930T213000
CATEGORIES:tous
LOCATION:sur le web
WEBSITE:http://www.sylvielunaberube.conversationpapillon.com
URL:http://www.sylvielunaberube.conversationpapillon.com
CONTACT:
ORGANIZER;CN="Sylvie BÃ©rubÃ© (LÃ¼na)":https://epanews.fr/profile/Sylv
 ieBerubeLuena
ATTACH;FMTTYPE="image/jpeg":http://storage.ning.com/topology/rest/1.0/
 file/get/1663206801?profile=original
ATTENDEE;ROLE=REQ-PARTICIPANT;PARTSTAT=ACCEPTED;RSVP=TRUE;CN="Sylvie B
 Ã©rubÃ© (LÃ¼na)":https://epanews.fr/profile/SylvieBerubeLuena
END:VEVENT
END:VCALENDAR
