BEGIN:VCALENDAR
PRODID:NingEventWidget-v1
VERSION:2.0
METHOD:PUBLISH
BEGIN:VTIMEZONE
TZID:Europe/Paris
X-LIC-LOCATION:Europe/Paris
BEGIN:DAYLIGHT
TZOFFSETFROM:+0100
TZOFFSETTO:+0200
TZNAME:CEST
DTSTART:19700329T020000
RRULE:FREQ=YEARLY;BYMONTH=3;BYDAY=-1SU
END:DAYLIGHT
BEGIN:STANDARD
TZOFFSETFROM:+0200
TZOFFSETTO:+0100
TZNAME:CET
DTSTART:19701025T030000
RRULE:FREQ=YEARLY;BYMONTH=10;BYDAY=-1SU
END:STANDARD
END:VTIMEZONE
BEGIN:VEVENT
UID:2485226:Event:2678142
DTSTAMP:20260421T101301Z
SUMMARY:WE ressourcement & radiesthésie/géobiologie - Montagne Noire
  11
DESCRIPTION:Au cœur de la Montagne Noire à 750 m d’altitude, pays 
 de sources et de lacs\nWeek-end ressourcement en pleine nature :\nRadi
 esthésie et géobiologie le samedi,\nsoin individuel le dimanche.\nT
 emps libre et découverte le reste du WE.\nParticipation financière d
 e 110€ le WE incluant 1 nuitée.\nRenseignements par mail : refugeau
 dela at orange . fr (enlever les espaces et inclure l'arobase à la pl
 ace de at). Caroline  06  *&  08  '\"&  23  c&  79  d&  04\nd
 escription du lieu > aperçu\n\n\nPour plus d'information, aller sur h
 ttps://epanews.fr/events/we-ressourcement-radiesth-sie-g-obiologie-mon
 tagne-noire-11
DTSTART;TZID=Europe/Paris:20160827T000000
DTEND;TZID=Europe/Paris:20160828T235900
CATEGORIES:tous
LOCATION:Montagne Noire limite Aude/Tarn
WEBSITE:
URL:
CONTACT:
ORGANIZER;CN="Caroline Féraud":https://epanews.fr/profile/CarolineFer
 aud
ATTACH;FMTTYPE="image/jpeg":http://storage.ning.com/topology/rest/1.0/
 file/get/1663573072?profile=original
ATTENDEE;ROLE=REQ-PARTICIPANT;PARTSTAT=ACCEPTED;RSVP=TRUE;CN="Caroline
  Féraud":https://epanews.fr/profile/CarolineFeraud
END:VEVENT
END:VCALENDAR
