BEGIN:VCALENDAR
PRODID:NingEventWidget-v1
VERSION:2.0
METHOD:PUBLISH
BEGIN:VTIMEZONE
TZID:Europe/Paris
X-LIC-LOCATION:Europe/Paris
BEGIN:DAYLIGHT
TZOFFSETFROM:+0100
TZOFFSETTO:+0200
TZNAME:CEST
DTSTART:19700329T020000
RRULE:FREQ=YEARLY;BYMONTH=3;BYDAY=-1SU
END:DAYLIGHT
BEGIN:STANDARD
TZOFFSETFROM:+0200
TZOFFSETTO:+0100
TZNAME:CET
DTSTART:19701025T030000
RRULE:FREQ=YEARLY;BYMONTH=10;BYDAY=-1SU
END:STANDARD
END:VTIMEZONE
BEGIN:VEVENT
UID:2485226:Event:1856570
DTSTAMP:20260421T043136Z
SUMMARY:stage de ressourcement 23/07
DESCRIPTION:stage de ressourcement en montagne \na deux heures de Mon
 tpellier\nhttp://youtu.be/_cGtqn0ALR8\nProgramme\n         Massag
 e de Recentrage Énergétique, Conseils, Enseignement changer ces cro
 yances , video G Mallasz et\ndocteur D Chopra ( tout compris hebergeme
 nt, repas, enseignement 250e , reste une place..1/4)\n\nRepas diétét
 ique en conscience, préparation en commun\nBalades Perceptions , Can
 alisations et Ressourcement\nMéditations, Marche, Montagne/ et travai
 l Énergétique\nCorporel Voix Musique, soirées cheminée feux de bo
 is…etc,\n\n Date\n \n\nReste 3/4 places pour le 19/20 avril \nWE 
 de connexion\"dialogue avec l'ange\"\n \nReste 4 places pour le 3/4 m
 ai \nWE de ressourcement \"alimentation sacralisée\"\n \nReste 2/4 
 places pour le  17/18 mai\nWE de connexion \"dialogue avec l'ange\"\n
  \nReste 3/4 places pour le 7/8 juin\nWE de ressourcement \"alimentat
 ion sacralisée\"\n\n\nPour plus d'information, aller sur https://epan
 ews.fr/events/we-ressourcement-150e-ttc
DTSTART;TZID=Europe/Paris:20140723T080000
DTEND;TZID=Europe/Paris:20140727T180000
CATEGORIES:"34/66"
LOCATION:Pyrennée
WEBSITE:http://www.centredelarbre.fr
URL:http://www.centredelarbre.fr
CONTACT:0685159688
ORGANIZER;CN=Alain:https://epanews.fr/profile/AlainSaunier
ATTACH;FMTTYPE="image/jpeg":http://storage.ning.com/topology/rest/1.0/
 file/get/1663104053?profile=original
ATTENDEE;ROLE=REQ-PARTICIPANT;PARTSTAT=ACCEPTED;RSVP=TRUE;CN=Alain:htt
 ps://epanews.fr/profile/AlainSaunier
END:VEVENT
END:VCALENDAR
