BEGIN:VCALENDAR
PRODID:NingEventWidget-v1
VERSION:2.0
METHOD:PUBLISH
BEGIN:VTIMEZONE
TZID:Europe/Paris
X-LIC-LOCATION:Europe/Paris
BEGIN:DAYLIGHT
TZOFFSETFROM:+0100
TZOFFSETTO:+0200
TZNAME:CEST
DTSTART:19700329T020000
RRULE:FREQ=YEARLY;BYMONTH=3;BYDAY=-1SU
END:DAYLIGHT
BEGIN:STANDARD
TZOFFSETFROM:+0200
TZOFFSETTO:+0100
TZNAME:CET
DTSTART:19701025T030000
RRULE:FREQ=YEARLY;BYMONTH=10;BYDAY=-1SU
END:STANDARD
END:VTIMEZONE
BEGIN:VEVENT
UID:2485226:Event:1049825
DTSTAMP:20260423T154916Z
SUMMARY:WE - Féminin Sacré avec Simeth Maya à Vence
DESCRIPTION:Pour tous ceux qui sont intéressés vous pouvez contacter
  :\nle Centre Mandala ou moi même\n__________________________________
 _________________________\nStage: Femme Lune Pleyade avec Simeth Maya 
 au Centre Mandala Vendredi 30 novembre, samedi 1 décembre et dimanche
  2 décembre\nFEMME%20LUNE%20PLEYADES%202012-2.pdf\nhttp://mayasacres.
 blogspot.fr/2012/11/simeth-maya-presente-au-centr...\nLe Centre Mandal
 a: 202 chemin du Pioulier 06140 Vence  contact: Tel: 04 93 59 83 88 / 
 06 15 38 12 47 mandala.vence@gmail.com  www.lecentremandala.com\n\n\n\
 nPour plus d'information, aller sur https://epanews.fr/events/we-f-min
 in-sacr-avec-simeth-maya-vence
DTSTART;TZID=Europe/Paris:20121130T190000
DTEND;TZID=Europe/Paris:20121202T190000
CATEGORIES:06
LOCATION:Vence
WEBSITE:http://goo.gl/maps/vRljf
URL:http://goo.gl/maps/vRljf
CONTACT:0.689.859.158
ORGANIZER;CN=Vega:https://epanews.fr/profile/Vega
ATTACH;FMTTYPE="image/jpeg":
ATTENDEE;ROLE=REQ-PARTICIPANT;PARTSTAT=ACCEPTED;RSVP=TRUE;CN=Vega:http
 s://epanews.fr/profile/Vega
END:VEVENT
END:VCALENDAR
