BEGIN:VCALENDAR
PRODID:NingEventWidget-v1
VERSION:2.0
METHOD:PUBLISH
BEGIN:VTIMEZONE
TZID:Europe/Paris
X-LIC-LOCATION:Europe/Paris
BEGIN:DAYLIGHT
TZOFFSETFROM:+0100
TZOFFSETTO:+0200
TZNAME:CEST
DTSTART:19700329T020000
RRULE:FREQ=YEARLY;BYMONTH=3;BYDAY=-1SU
END:DAYLIGHT
BEGIN:STANDARD
TZOFFSETFROM:+0200
TZOFFSETTO:+0100
TZNAME:CET
DTSTART:19701025T030000
RRULE:FREQ=YEARLY;BYMONTH=10;BYDAY=-1SU
END:STANDARD
END:VTIMEZONE
BEGIN:VEVENT
UID:2485226:Event:1952696
DTSTAMP:20260421T044423Z
SUMMARY:we chamanique:S'ouvrir Ã  plus de crÃ©ativitÃ©.
DESCRIPTION:Samedi 26 et dimanche 27 juillet 2014\nWeek-end introducti
 on Ã  la transe\nSâ€™OUVRIR Ã€ PLUS DE CRÃ‰ATIVITÃ‰ AnimÃ© par Domoina
  Bockomba\nDeux jours pendant lesquels vous allez dÃ©couvrir la transe
  par la danse et l'utilisation de l'Ã©nergie et la joie qui vous habit
 e pour mieux vous rÃ©vÃ©ler.  Outils : danse, mÃ©ditation, massage, re
 spiration consciente, Ã©coute empathique, pratique taoÃ¯ste de circula
 tion de lâ€™Ã©nergie (jing). \nLes instruments sont les bienvenus : di
 dgÃ©ridoo, tambour, sansulas, bÃ¢tons de pluie, carillon, flÃ»te, bolâ
 €¦\nCÃ©lÃ©brerons lâ€™Ã©tÃ© autour dâ€™un feu de bois le samedi soir.\
 nDomoÃ¯na Bockomba, acupunctrice, est thÃ©rapeute psychocorporelle spÃ
 ©cialisÃ©e dans l'accompagnement relationnel. Auteur du livre : Fragme
 nts de vie amoureuse. La puissance du (par)don.\nDans un cadre champÃª
 tre dâ€™un demi-hectare Ã  30 mn de Chartres, du samedi 26 juillet Ã  
 9h30 au dimanche 27 Ã  18h, co-voiturage proposÃ© entre participants T
 arif : 250 â‚¬/pers. comprends hÃ©bergementen studio ou tente et petit
  dÃ©jeuner.\nRenseignements/inscriptions au 06 17 46 92 94 ou par emai
 l : contact@lavoie2laconscience.com\nEnvoyer un chÃ¨que de 70â‚¬/pers.
  pour votre inscription Ã  Association Untout, 7 allÃ©e Marcel Sembat\
 n92290 Chatenay malabry\n\nPour plus d'information, aller sur https://
 epanews.fr/events/we-chamanique-transe-en-danse-et-musique-sacr-e
DTSTART;TZID=Europe/Paris:20140726T093000
DTEND;TZID=Europe/Paris:20140727T180000
CATEGORIES:28800
LOCATION:Proche de Chartres
WEBSITE:http://www.lavoie2laconscience.com
URL:http://www.lavoie2laconscience.com
CONTACT:06 17 46 92 94
ORGANIZER;CN=lavoie2laconscience:https://epanews.fr/profile/lavoieduto
 ut
ATTACH;FMTTYPE="image/jpeg":http://storage.ning.com/topology/rest/1.0/
 file/get/1663161041?profile=original
ATTENDEE;ROLE=REQ-PARTICIPANT;PARTSTAT=ACCEPTED;RSVP=TRUE;CN=lavoie2la
 conscience:https://epanews.fr/profile/lavoiedutout
END:VEVENT
END:VCALENDAR
