BEGIN:VCALENDAR
PRODID:NingEventWidget-v1
VERSION:2.0
METHOD:PUBLISH
BEGIN:VTIMEZONE
TZID:Europe/Paris
X-LIC-LOCATION:Europe/Paris
BEGIN:DAYLIGHT
TZOFFSETFROM:+0100
TZOFFSETTO:+0200
TZNAME:CEST
DTSTART:19700329T020000
RRULE:FREQ=YEARLY;BYMONTH=3;BYDAY=-1SU
END:DAYLIGHT
BEGIN:STANDARD
TZOFFSETFROM:+0200
TZOFFSETTO:+0100
TZNAME:CET
DTSTART:19701025T030000
RRULE:FREQ=YEARLY;BYMONTH=10;BYDAY=-1SU
END:STANDARD
END:VTIMEZONE
BEGIN:VEVENT
UID:2485226:Event:2294620
DTSTAMP:20260421T172616Z
SUMMARY:We bucheronnage en Ardèche
DESCRIPTION:Le We du 18-19 avril 2015 Je vous propose un we bucheronna
 ge en ardèche a St Julien Labrousse (en plein coeur des parcs des mon
 ts d'ardèche) dans un lieu magnifique.\n- Découpe de bois à la tron
 çonneuse (max 20 cm diametre : on a le matériel)\n- Ramassage de boi
 s\n- Ballades\n- Repas conviviaux\nRepas et gite fourni (www.legrandbo
 uveron.com), seule une participation aus frais de transport (covoitura
 ge) est à prévoir. amener tenue de travail et prévoir duvet. me con
 tacter pour toute information, départ vendredi fin d'après midi ou s
 oir et retour dimanche soir.\n\nPour plus d'information, aller sur htt
 ps://epanews.fr/events/we-bucheronnage-en-ard-che
DTSTART;TZID=Europe/Paris:20150417T170000
DTEND;TZID=Europe/Paris:20150419T190000
CATEGORIES:07
LOCATION:Le grand Bouveron
WEBSITE:http://www.legrandbouveron.com
URL:http://www.legrandbouveron.com
CONTACT:06 11 04 67 26
ORGANIZER;CN="Severine Musa":https://epanews.fr/profile/SeverineMusa
ATTACH;FMTTYPE="image/jpeg":http://storage.ning.com/topology/rest/1.0/
 file/get/1663373533?profile=original
ATTENDEE;ROLE=REQ-PARTICIPANT;PARTSTAT=ACCEPTED;RSVP=TRUE;CN="Severine
  Musa":https://epanews.fr/profile/SeverineMusa
END:VEVENT
END:VCALENDAR
