BEGIN:VCALENDAR
PRODID:NingEventWidget-v1
VERSION:2.0
METHOD:PUBLISH
BEGIN:VTIMEZONE
TZID:Europe/Paris
X-LIC-LOCATION:Europe/Paris
BEGIN:DAYLIGHT
TZOFFSETFROM:+0100
TZOFFSETTO:+0200
TZNAME:CEST
DTSTART:19700329T020000
RRULE:FREQ=YEARLY;BYMONTH=3;BYDAY=-1SU
END:DAYLIGHT
BEGIN:STANDARD
TZOFFSETFROM:+0200
TZOFFSETTO:+0100
TZNAME:CET
DTSTART:19701025T030000
RRULE:FREQ=YEARLY;BYMONTH=10;BYDAY=-1SU
END:STANDARD
END:VTIMEZONE
BEGIN:VEVENT
UID:2485226:Event:23743
DTSTAMP:20260422T122019Z
SUMMARY:watsu pour confirmés le 12 dec
DESCRIPTION:De 16h à 17h30 « WATSU atelier confirmés » avec Guy DE
 SPONT (formation WABA) assisté de Marie-\nNoëlle DELAS ( Worldwide A
 quatic Bodywork Association )\nSans intention, des bercements en duos 
 guidés pour un voyage d'exploration et de découverte en sécurité e
 t confiance\ndans l'énergie tranquille de l'eau à 35°.\nAtelier lim
 ité à 6 participants.\nContre-indication : phobie de l’eau.\nPrév
 oir : maillot de bain, serviette, gel douche.\n\nPour plus d'informati
 on, aller sur https://epanews.fr/events/watsu-pour-confirmes-le-12-dec
DTSTART;TZID=Europe/Paris:20091212T160000
DTEND;TZID=Europe/Paris:20091212T173000
CATEGORIES:75
LOCATION:atelier watsu
WEBSITE:
URL:
CONTACT:06 74 64 03 16
ORGANIZER;CN="Jean-Michel Gallet":https://epanews.fr/profile/Gallet
ATTACH;FMTTYPE="image/jpeg":http://storage.ning.com/topology/rest/1.0/
 file/get/1662279339?profile=original
ATTENDEE;ROLE=REQ-PARTICIPANT;PARTSTAT=ACCEPTED;RSVP=TRUE;CN="Jean-Mic
 hel Gallet":https://epanews.fr/profile/Gallet
END:VEVENT
END:VCALENDAR
