BEGIN:VCALENDAR
PRODID:NingEventWidget-v1
VERSION:2.0
METHOD:PUBLISH
BEGIN:VTIMEZONE
TZID:Europe/Paris
X-LIC-LOCATION:Europe/Paris
BEGIN:DAYLIGHT
TZOFFSETFROM:+0100
TZOFFSETTO:+0200
TZNAME:CEST
DTSTART:19700329T020000
RRULE:FREQ=YEARLY;BYMONTH=3;BYDAY=-1SU
END:DAYLIGHT
BEGIN:STANDARD
TZOFFSETFROM:+0200
TZOFFSETTO:+0100
TZNAME:CET
DTSTART:19701025T030000
RRULE:FREQ=YEARLY;BYMONTH=10;BYDAY=-1SU
END:STANDARD
END:VTIMEZONE
BEGIN:VEVENT
UID:2485226:Event:966144
DTSTAMP:20260423T143729Z
SUMMARY:Water
DESCRIPTION:\nÂ \nÂ  Â  Â  Â  Â  Â  Â  Â  Â  Â  Â  Â WATER\nÂ \nPlus d
 es 3/5 eme de la surface du globe terrestre sont recouverts d'eau ,mai
 s que savons nous vraiment de cette Ã©lÃ©ment ?\nD'Ã©minents scientifi
 ques , Ã©crivains , et philosophes essaient de dÃ©coder les secrets de
  l'eau .De nombreux expÃ©riences rÃ©vÃ©lent de maniÃ©re impressionnant
 e que les influences de l'environnement laissent des traces marquantes
  dans l'eau\nTout ce qui se passe autour de l'eau y est aussitÃ´t enre
 gistrÃ© . Tout ce qui entre en contact avec l'eau laisse une trace!\nÂ
  \nNos ancetres connaissaient ils dÃ©jÃ  ce secret , lorsqu'ils ont es
 seyÃ© de transformer avec des rÃ©cipients en argent , de l'eau ordinai
 re en eau guÃ©risseuse ?\nComment des Ã©motions humaines influencent e
 lles durablement la structure de l'eau ?\nL'eau aurait elle une mÃ©moi
 re comparable au disque dur d' un ordinateur qui mÃ©moriserait l'intÃ©
 gralitÃ© de la vie pour toujours ?\nCe documentaire extraordinaire don
 ne la parole aux experts reconnus mondialement qui prÃ©sentent des asp
 ects scientifiques aussi bien que spirituels . Parmi d'autres , le Dr 
 Emoto et le prof K.Wuthrich ( prix nobel de chimie en 2002) rÃ©vÃ©lent
  les dÃ©couvertes Ã©tonnantes de leurs recherches sur un Ã©lÃ©ment que
  nous connaissons tous mais dont nous ne savons finalement pas grand c
 hose .\n\nPour plus d'information, aller sur https://epanews.fr/events
 /water
DTSTART;TZID=Europe/Paris:20121027T200000
DTEND;TZID=Europe/Paris:20121027T220000
CATEGORIES:13
LOCATION:Carry le rouet
WEBSITE:
URL:
CONTACT:0681289682
ORGANIZER;CN=tallulah:https://epanews.fr/profile/NEPHEBETH
ATTACH;FMTTYPE="image/jpeg":
ATTENDEE;ROLE=REQ-PARTICIPANT;PARTSTAT=ACCEPTED;RSVP=TRUE;CN=tallulah:
 https://epanews.fr/profile/NEPHEBETH
END:VEVENT
END:VCALENDAR
