BEGIN:VCALENDAR
PRODID:NingEventWidget-v1
VERSION:2.0
METHOD:PUBLISH
BEGIN:VTIMEZONE
TZID:Europe/Paris
X-LIC-LOCATION:Europe/Paris
BEGIN:DAYLIGHT
TZOFFSETFROM:+0100
TZOFFSETTO:+0200
TZNAME:CEST
DTSTART:19700329T020000
RRULE:FREQ=YEARLY;BYMONTH=3;BYDAY=-1SU
END:DAYLIGHT
BEGIN:STANDARD
TZOFFSETFROM:+0200
TZOFFSETTO:+0100
TZNAME:CET
DTSTART:19701025T030000
RRULE:FREQ=YEARLY;BYMONTH=10;BYDAY=-1SU
END:STANDARD
END:VTIMEZONE
BEGIN:VEVENT
UID:2485226:Event:1771742
DTSTAMP:20260421T002703Z
SUMMARY:Vs Ãªtes inviter sur une nouvelle Ã©mission radio L'Amour est 
 dÃ©clarÃ©
DESCRIPTION:\nL'AMOUR EST DÃ‰CLARÃ‰ est votre nouvelle Ã©mission sur R
 adio Zolkin. Vous Ãªtes conviÃ©s sur le tournage de la toute premiÃ¨re
 Â Ã©mission spÃ©ciale Saint Valentin le dimanche 9 fÃ©vrier.\n\nVenez 
 sur le plateau de L'AMOUR EST DÃ‰CLARÃ‰ pour vous permettre dâ€™Ã©clai
 rer certaines situations non conscientes.\n\nVous Ãªtes confrontÃ©s Ã 
  un problÃ¨me rÃ©current dans votre quotidien et vous nâ€™arrivez pas 
 Ã  vous en sortir tout seul :\n\nL'AMOUR EST DÃ‰CLARÃ‰ animÃ© par Soph
 ie NoÃ«l existe pour vous permettre de faire le mÃ©nage dans vos pensÃ
 ©es et retrouver\n\nune joie de vivre rÃ©elle.\n\nSophie Â« rÃ©pare Â»
  en temps rÃ©el vos pensÃ©es saboteuses : Â«Ã§a peut pas marcherÂ», Â«
 cela ne durera pasÂ»...Â \n\nSophie perÃ§oit ce que nous ne comprenons
  pas.\n\nPour l'accompagner, des spÃ©cialistes seront prÃ©sents pour p
 artager avec nous leur mÃ©thode, exercices, astuces pour mettre en\n\n
 mouvement l'Ã©lan amoureux dans notre Vie. Chanteurs, Ã©crivains, thÃ©
 rapeutes, philosophes et vous aussi bien sÃ»r, si vous avezÂ votre bon
 ne recette pour vous sentir vivant.Â \n\nParticipation uniquement sur 
 inscription sur contact@sophienoel.com\nÂ \n\nPour plus d'information,
  aller sur https://epanews.fr/events/vs-tes-inviter-sur-une-nouvelle-m
 ission-radio-l-amour-est-d-clar
DTSTART;TZID=Europe/Paris:20140209T120000
DTEND;TZID=Europe/Paris:20140209T140000
CATEGORIES:75013
LOCATION:75013 Paris
WEBSITE:http://www.villagerusse.com
URL:http://www.villagerusse.com
CONTACT:0699444567
ORGANIZER;CN=EnergÃ©ticienne:https://epanews.fr/profile/Energeticienne
ATTACH;FMTTYPE="image/jpeg":
ATTENDEE;ROLE=REQ-PARTICIPANT;PARTSTAT=ACCEPTED;RSVP=TRUE;CN=EnergÃ©ti
 cienne:https://epanews.fr/profile/Energeticienne
END:VEVENT
END:VCALENDAR
