BEGIN:VCALENDAR
PRODID:NingEventWidget-v1
VERSION:2.0
METHOD:PUBLISH
BEGIN:VTIMEZONE
TZID:Europe/Paris
X-LIC-LOCATION:Europe/Paris
BEGIN:DAYLIGHT
TZOFFSETFROM:+0100
TZOFFSETTO:+0200
TZNAME:CEST
DTSTART:19700329T020000
RRULE:FREQ=YEARLY;BYMONTH=3;BYDAY=-1SU
END:DAYLIGHT
BEGIN:STANDARD
TZOFFSETFROM:+0200
TZOFFSETTO:+0100
TZNAME:CET
DTSTART:19701025T030000
RRULE:FREQ=YEARLY;BYMONTH=10;BYDAY=-1SU
END:STANDARD
END:VTIMEZONE
BEGIN:VEVENT
UID:2485226:Event:1848187
DTSTAMP:20260423T145234Z
SUMMARY:voyages Ã  la rencontre des dauphins et baleines sur une Ã®le 
 sauvage
DESCRIPTION:Rencontres avec les dauphins et baleines aux AÃ§ores en de
 mi-pensionÂ  comprenant 5 sorties en mer consacrÃ©es Ã  lâ€™observatio
 n des cÃ©tacÃ©s et immersion avec les dauphins pour ceux qui le dÃ©sir
 ent, ainsi quâ€™Ã  une dÃ©couverte de lâ€™Ã®le .\nDÃ©part le matin ou 
 lâ€™aprÃ¨s-midi pour une sortie en mer Ã  la rencontre des cÃ©tacÃ©s. 
 Une fois en leur compagnie, vous aurez le plaisir de les observer, les
  Ã©couter..\nEn fonction de lâ€™approche des dauphins vous pourrez gli
 sser dans cette magnifique eau AÃ§orienne, en leur compagnie. Certains
  peuvent rester Ã  bord, chacun est libre de vivre ces rencontres selo
 n son ressenti. Lâ€™essentiel Ã©tant la rencontre avec le cÅ“ur et le 
 sentiment de rÃ©Â Â»unionÂ Â» qui s'en suit.\nLes aprÃ¨s-midi seront c
 onsacrÃ©es aux ateliers et Ã  la dÃ©couverte de vos origines aquatique
 s , Ã  la transmission du message des cÃ©tacÃ©s, avec FrÃ©dÃ©rique dÃ©
 couverte des Ã©lixirs et essences de la mer ,relaxation en visualisati
 ons crÃ©atrice et mÃ©ditations . Au cours du voyage, nous Ã©laborons e
 nsemble une essence de la mer que chacun ramÃ¨nera avec lui.\nLa lÃ©gÃ
 ¨retÃ© des dauphins nous reconnecte Ã  notre enfant intÃ©rieur , innoc
 ent et joueur. DÃ¨s que les dauphins pointent leur nez, la joie explos
 e Ã  bord du bateauÂ !\nApprentissage de la communication subtile avec
  les animaux , approfondissement de la reliance avec notre cÅ“ur, ress
 entir et cultiver l'intuition.\nReconnexion Ã  l'essence profonde de Â
 «Â qui je suis Â«Â , ma place dans ce monde, mon engagement, avec un r
 etour Ã  l'unicitÃ©.\nLe logement est dans un village charmant avec 3 
 maisons vue mer, dont une avec piscine face Ã  la mer pour se dÃ©tendr
 e et prÃ©parer nos immersions en pleine OcÃ©an.!\nVoyage accessible Ã 
  tous, stage de Â«Â prÃ©paration intÃ©rieureÂ Â» Ã  la Rochelle recomm
 andÃ© mais pas obligatoire.\nCe voyage a Ã©tÃ© conÃ§u comme j'ai toujo
 urs vÃ©cu ces rencontres, un Â«Â trÃ©sorÂ Â», il est original et profo
 ndÃ©ment transformateur. Il y a de la magie dans l'air !\nPrix du voya
 ge avion, (base 11 personnes)Â : 1990 Euros PÂ /P base chamb dbl. Poss
 ibilitÃ©s dÃ©part directement villes de province \nAutre voyage prÃ©vu
  du 13 au 21 septembre 2014.\n\n\n\n\nPour plus d'information, aller s
 ur https://epanews.fr/events/voyages-la-rencontre-des-dauphins-et-bale
 ines-sur-une-le-sauvage
DTSTART;TZID=Europe/Paris:20140628T060000
DTEND;TZID=Europe/Paris:20140705T220000
CATEGORIES:Ã©tranger
LOCATION:AÃ§ores
WEBSITE:http://www.institutdony.com
URL:http://www.institutdony.com
CONTACT:06 25 10 16 61
ORGANIZER;CN="frederique pichard":https://epanews.fr/profile/frederiqu
 epichard
ATTACH;FMTTYPE="image/jpeg":http://storage.ning.com/topology/rest/1.0/
 file/get/1663095976?profile=original
ATTENDEE;ROLE=REQ-PARTICIPANT;PARTSTAT=ACCEPTED;RSVP=TRUE;CN="frederiq
 ue pichard":https://epanews.fr/profile/frederiquepichard
END:VEVENT
END:VCALENDAR
