BEGIN:VCALENDAR
PRODID:NingEventWidget-v1
VERSION:2.0
METHOD:PUBLISH
BEGIN:VTIMEZONE
TZID:Europe/Paris
X-LIC-LOCATION:Europe/Paris
BEGIN:DAYLIGHT
TZOFFSETFROM:+0100
TZOFFSETTO:+0200
TZNAME:CEST
DTSTART:19700329T020000
RRULE:FREQ=YEARLY;BYMONTH=3;BYDAY=-1SU
END:DAYLIGHT
BEGIN:STANDARD
TZOFFSETFROM:+0200
TZOFFSETTO:+0100
TZNAME:CET
DTSTART:19701025T030000
RRULE:FREQ=YEARLY;BYMONTH=10;BYDAY=-1SU
END:STANDARD
END:VTIMEZONE
BEGIN:VEVENT
UID:2485226:Event:397002
DTSTAMP:20260423T174531Z
SUMMARY:voyages chamaniques
DESCRIPTION:Voyages Chamaniques-Le rÃªve Ã©veillÃ©\nÂ \nÂ Â Â Â Â Â Â 
 Â Â Â Â Â Â  Â  Â  Â  Â  Â  Â  Â  Â  Â  Â  Â  Â  Â  Â  Enseignements C
 hamaniques\nÂ \nÂ Â Â Â Â Â Â Â Â Â Â Â Â Â Â Â Â Â Â Â Â Â Â Â Â Â Â 
 Â Â Â Â Â Â Â Â Â Â Â Â Â  Â  Â  Â  AnimÃ©s par Martina jade\nÂ \nÂ Â 
 Â Â Â Â Â Â Â Â Â Â Â Â Â Â Â Â Â Â Â Â Â Â Â Â Â Â Â Â Â Â Â Â Â Â Â 
 Â Â Â Â Â Â Â Â Â Â Â Â Â  Traditions AmÃ©rindiennes\nÂ \nÂ  DÃ©velopp
 ement de la facultÃ© de vision ainsi que des ressentis\nÂ \nÂ  Reconne
 xion avec la Terre\nÂ Â Â Â Â Â Â Â Â Â Â Â Â Â Â Â Â Â Â Â Â Â Â Â Â 
  \nLe voyage chamanique est une aide prÃ©cieuse qui permet non seuleme
 nt de rencontrer ses animaux mais Ã©galement de recevoir des rÃ©ponses
  Ã  nos questions ainsi que des messages de nos guides.\nÂ \nParticipa
 tion :150 eurosÂ  de 10h Ã  17h sur 3 jours en 3 mois\nÂ \nDates Ã  re
 tenir: Dimanche 25 Septembre 2011\nÂ \nÂ Â Â Â Â Â Â Â Â Â Â Â Â Â Â Â
  Â Â Â Â Â Â Â Â Â  Dimanche 23 Octobre 2011\nÂ \nÂ Â Â Â Â Â Â Â Â Â 
 Â Â Â Â Â Â Â Â Â Â Â Â Â Â Â  Dimanche 20 Novembre 2011\nÂ \nRÃ©serva
 tion conseillÃ©e :clo 06 29 34 22 67\nÂ \nRenseignements :Martina:06 3
 1 10 60 07 ou martinajade@live.fr\n\nPour plus d'information, aller su
 r https://epanews.fr/events/voyages-chamaniques
DTSTART;TZID=Europe/Paris:20110925T000000
DTEND;TZID=Europe/Paris:20110925T235900
CATEGORIES:83
LOCATION:Lorgues
WEBSITE:
URL:
CONTACT:06 29 34 22 67
ORGANIZER;CN="Assoc.le Jardin des Oliviers":https://epanews.fr/profile
 /AssocLeJardindesOliviers
ATTACH;FMTTYPE="image/jpeg":
ATTENDEE;ROLE=REQ-PARTICIPANT;PARTSTAT=ACCEPTED;RSVP=TRUE;CN=INGRID:ht
 tps://epanews.fr/profile/HOUILLON
ATTENDEE;ROLE=REQ-PARTICIPANT;PARTSTAT=ACCEPTED;RSVP=TRUE;CN=ValÃ©rie:
 https://epanews.fr/profile/Valerie638
ATTENDEE;ROLE=REQ-PARTICIPANT;PARTSTAT=ACCEPTED;RSVP=TRUE;CN="Assoc.le
  Jardin des Oliviers":https://epanews.fr/profile/AssocLeJardindesOlivi
 ers
END:VEVENT
END:VCALENDAR
