BEGIN:VCALENDAR
PRODID:NingEventWidget-v1
VERSION:2.0
METHOD:PUBLISH
BEGIN:VTIMEZONE
TZID:Europe/Paris
X-LIC-LOCATION:Europe/Paris
BEGIN:DAYLIGHT
TZOFFSETFROM:+0100
TZOFFSETTO:+0200
TZNAME:CEST
DTSTART:19700329T020000
RRULE:FREQ=YEARLY;BYMONTH=3;BYDAY=-1SU
END:DAYLIGHT
BEGIN:STANDARD
TZOFFSETFROM:+0200
TZOFFSETTO:+0100
TZNAME:CET
DTSTART:19701025T030000
RRULE:FREQ=YEARLY;BYMONTH=10;BYDAY=-1SU
END:STANDARD
END:VTIMEZONE
BEGIN:VEVENT
UID:2485226:Event:1819426
DTSTAMP:20260422T022431Z
SUMMARY:Voyages chamaniques et transe
DESCRIPTION:C est un atelier de cheminement et d initiation au travers
  des outils du chamanisme que sont voyage chamanique et transe..\nJe v
 ous propose d explorer d autres “ octaves ” de perception afin d
 ’entendre les voix qui viennent du cœur de votre être et de la Vie
 .\nCet atelier s'adresse à toutes et tous\n\nPour plus d'information,
  aller sur https://epanews.fr/events/voyages-chamaniques-et-transe
DTSTART;TZID=Europe/Paris:20140620T140000
DTEND;TZID=Europe/Paris:20140622T190000
CATEGORIES:33
LOCATION:guitres
WEBSITE:http://www.chambres-relaxation.com/maison.htm
URL:http://www.chambres-relaxation.com/maison.htm
CONTACT:0557691515
ORGANIZER;CN="Sidarta (Atlantik chaman)":https://epanews.fr/profile/Si
 dartaAtlantikchaman
ATTACH;FMTTYPE="image/jpeg":
ATTENDEE;ROLE=REQ-PARTICIPANT;PARTSTAT=ACCEPTED;RSVP=TRUE;CN="Sidarta 
 (Atlantik chaman)":https://epanews.fr/profile/SidartaAtlantikchaman
END:VEVENT
END:VCALENDAR
