BEGIN:VCALENDAR
PRODID:NingEventWidget-v1
VERSION:2.0
METHOD:PUBLISH
BEGIN:VTIMEZONE
TZID:Europe/Paris
X-LIC-LOCATION:Europe/Paris
BEGIN:DAYLIGHT
TZOFFSETFROM:+0100
TZOFFSETTO:+0200
TZNAME:CEST
DTSTART:19700329T020000
RRULE:FREQ=YEARLY;BYMONTH=3;BYDAY=-1SU
END:DAYLIGHT
BEGIN:STANDARD
TZOFFSETFROM:+0200
TZOFFSETTO:+0100
TZNAME:CET
DTSTART:19701025T030000
RRULE:FREQ=YEARLY;BYMONTH=10;BYDAY=-1SU
END:STANDARD
END:VTIMEZONE
BEGIN:VEVENT
UID:2485226:Event:182457
DTSTAMP:20260424T044338Z
SUMMARY:\"Voyages chamaniques au son du tambour\"
DESCRIPTION:Lâ€™Ã©coute de la vibration du chant du tambour ouvre les 
 portes d'une rÃ©alitÃ© non-ordinaire, oÃ¹ s'entremÃªlent les mondes du
  physique et du spirituel. Le voyage chamanique dans les mondes d'En-H
 aut, d'En-Bas et du Milieu peut permettre de rencontrer nos guides et 
 animaux totem. Ceux-ci nous conseillent et enseignent guÃ©rison et sag
 esse.\nNous vous invitons, Jessica ALFON et Catherine DARBORD, Ã  expl
 orer vos mondes intÃ©rieurs, pour une ouverture dâ€™esprit en conscien
 ce, et continuer l'Ã©volution sur votre chemin de vie, centrÃ©, alignÃ
 © et enracinÃ©.\nParticipation : 20 â‚¬\nRenseignements et inscription
  prÃ©alable auprÃ¨s de Jessica au 06.12.04.02.03\n\nPour plus d'inform
 ation, aller sur https://epanews.fr/events/voyages-chamaniques-au-son-
 du
DTSTART;TZID=Europe/Paris:20110119T200000
DTEND;TZID=Europe/Paris:20110119T230000
CATEGORIES:34
LOCATION:Montpellier
WEBSITE:
URL:
CONTACT:06.12.04.02.03
ORGANIZER:DARBORD Catherine et Jessica ALFON
ATTACH;FMTTYPE="image/jpeg":http://storage.ning.com/topology/rest/1.0/
 file/get/1662378001?profile=original
ATTENDEE;ROLE=REQ-PARTICIPANT;PARTSTAT=ACCEPTED;RSVP=TRUE;CN="DARBORD 
 Catherine":https://epanews.fr/profile/DARBORDCatherine
ATTENDEE;ROLE=REQ-PARTICIPANT;PARTSTAT=TENTATIVE;RSVP=TRUE;CN="Corinne
  SÃ©mÃ©nutine":https://epanews.fr/profile/CorinneSemenutine
END:VEVENT
END:VCALENDAR
